BEGIN:VCALENDAR
VERSION:2.0
PRODID:-//Confraria dos Pretos Velhos de Umbanda - ECPv6.15.20//NONSGML v1.0//EN
CALSCALE:GREGORIAN
METHOD:PUBLISH
X-WR-CALNAME:Confraria dos Pretos Velhos de Umbanda
X-ORIGINAL-URL:https://confrariadospretosvelhosdeumbanda.org
X-WR-CALDESC:Eventos para Confraria dos Pretos Velhos de Umbanda
REFRESH-INTERVAL;VALUE=DURATION:PT1H
X-Robots-Tag:noindex
X-PUBLISHED-TTL:PT1H
BEGIN:VTIMEZONE
TZID:America/Sao_Paulo
BEGIN:STANDARD
TZOFFSETFROM:-0300
TZOFFSETTO:-0300
TZNAME:-03
DTSTART:20240101T000000
END:STANDARD
END:VTIMEZONE
BEGIN:VEVENT
DTSTART;TZID=America/Sao_Paulo:20250703T200000
DTEND;TZID=America/Sao_Paulo:20250703T220000
DTSTAMP:20260424T072731
CREATED:20250701T235502Z
LAST-MODIFIED:20250702T000841Z
UID:10555-1751572800-1751580000@confrariadospretosvelhosdeumbanda.org
SUMMARY:CURSO DE DOUTRINA E DESENVOLVIMENTO MEDIÚNICO COM PAI EVANDRO - EXCLUSIVO PARA MÉDIUNS DA CASA
DESCRIPTION:ANTES DE VISITAR NOSSA CASA CONHEÇA NOSSAS DIRETRIZES GERAIS: \nAcesse: https://confrariadospretosvelhosdeumbanda.org/diretrizes-gerais/ \nMaiores informações: (19) 99655-6009 (WhatsApp) \nACEITAMOS DOAÇÕES PARA NOSSOS TRABALHOS SOCIAIS: \n\nAlimentos não-perecíveis (serão utilizados em cestas básicas para famílias carentes cadastradas e em marmitas para pessoas em situação de rua).\nTampinhas de garrafa pet\, lacres de latinhas de alumínio e cartelas de medicamentos usadas (serão utilizados para campanhas de arrecadação de cadeiras de rodas).\nRoupas e agasalhos em bom estado de conservação (serão utilizados para a Campanha do Agasalho).\nDOAÇÕES EM DINHEIRO PODEM SER FEITAS PELO PIX: CNPJ 23828397000100 – INSTITUTO CULTURAL CONFRARIA DOS PRETOS VELHOS DE UMBANDA.\n\nMuito obrigado e Oxalá abençoe!
URL:https://confrariadospretosvelhosdeumbanda.org/evento/curso-de-doutrina-e-desenvolvimento-mediunico-com-pai-evandro-3/
LOCATION:TUA – Tenda de Umbanda Acolhimento / Limeira\, SP\, R. Dr. Wiliam Silva\, 540\, Limeira\, SP\, 13481-013\, Brasil
CATEGORIES:Cursos
ORGANIZER;CN="Mae Zilda e Pai Evandro":MAILTO:tupjaet@hotmail.com
END:VEVENT
BEGIN:VEVENT
DTSTART;TZID=America/Sao_Paulo:20250710T200000
DTEND;TZID=America/Sao_Paulo:20250710T220000
DTSTAMP:20260424T072731
CREATED:20250701T235841Z
LAST-MODIFIED:20250701T235841Z
UID:10561-1752177600-1752184800@confrariadospretosvelhosdeumbanda.org
SUMMARY:CURSO A CONFIRMAR
DESCRIPTION:ANTES DE VISITAR NOSSA CASA CONHEÇA NOSSAS DIRETRIZES GERAIS: \nAcesse: https://confrariadospretosvelhosdeumbanda.org/diretrizes-gerais/ \nMaiores informações: (19) 99655-6009 (WhatsApp) \nACEITAMOS DOAÇÕES PARA NOSSOS TRABALHOS SOCIAIS: \n\nAlimentos não-perecíveis (serão utilizados em cestas básicas para famílias carentes cadastradas e em marmitas para pessoas em situação de rua).\nTampinhas de garrafa pet\, lacres de latinhas de alumínio e cartelas de medicamentos usadas (serão utilizados para campanhas de arrecadação de cadeiras de rodas).\nRoupas e agasalhos em bom estado de conservação (serão utilizados para a Campanha do Agasalho).\nDOAÇÕES EM DINHEIRO PODEM SER FEITAS PELO PIX: CNPJ 23828397000100 – INSTITUTO CULTURAL CONFRARIA DOS PRETOS VELHOS DE UMBANDA.\n\nMuito obrigado e Oxalá abençoe!
URL:https://confrariadospretosvelhosdeumbanda.org/evento/curso-a-confirmar/
LOCATION:SP
CATEGORIES:Cursos
END:VEVENT
BEGIN:VEVENT
DTSTART;TZID=America/Sao_Paulo:20250717T200000
DTEND;TZID=America/Sao_Paulo:20250717T220000
DTSTAMP:20260424T072731
CREATED:20250702T000946Z
LAST-MODIFIED:20250702T000946Z
UID:10569-1752782400-1752789600@confrariadospretosvelhosdeumbanda.org
SUMMARY:ESTUDO DO EVANGELHO COM SR. ODILON - EXCLUSIVO PARA MÉDIUNS DA CASA
DESCRIPTION:ANTES DE VISITAR NOSSA CASA CONHEÇA NOSSAS DIRETRIZES GERAIS: \nAcesse: https://confrariadospretosvelhosdeumbanda.org/diretrizes-gerais/ \nMaiores informações: (19) 99655-6009 (WhatsApp) \nACEITAMOS DOAÇÕES PARA NOSSOS TRABALHOS SOCIAIS: \n\nAlimentos não-perecíveis (serão utilizados em cestas básicas para famílias carentes cadastradas e em marmitas para pessoas em situação de rua).\nTampinhas de garrafa pet\, lacres de latinhas de alumínio e cartelas de medicamentos usadas (serão utilizados para campanhas de arrecadação de cadeiras de rodas).\nRoupas e agasalhos em bom estado de conservação (serão utilizados para a Campanha do Agasalho).\nDOAÇÕES EM DINHEIRO PODEM SER FEITAS PELO PIX: CNPJ 23828397000100 – INSTITUTO CULTURAL CONFRARIA DOS PRETOS VELHOS DE UMBANDA.\n\nMuito obrigado e Oxalá abençoe!
URL:https://confrariadospretosvelhosdeumbanda.org/evento/estudo-do-evangelho-com-sr-odilon-exclusivo-para-mediuns-da-casa/
LOCATION:TUPJAET – Tenda de Umbanda Pai Joaquim D’Angola e Exú Tiriri / Limeira\, SP\, Rua Evaristo Jacon\, 424\, Limeira\, SP\, 13481-583\, Brasil
CATEGORIES:Cursos
ORGANIZER;CN="Mae Zilda e Pai Evandro":MAILTO:tupjaet@hotmail.com
END:VEVENT
BEGIN:VEVENT
DTSTART;TZID=America/Sao_Paulo:20250722T190000
DTEND;TZID=America/Sao_Paulo:20250722T210000
DTSTAMP:20260424T072731
CREATED:20250702T002256Z
LAST-MODIFIED:20250702T002256Z
UID:10591-1753210800-1753218000@confrariadospretosvelhosdeumbanda.org
SUMMARY:AULA DE CURIMBA COM PAI MURILLO
DESCRIPTION:ANTES DE VISITAR NOSSA CASA CONHEÇA NOSSAS DIRETRIZES GERAIS: \nAcesse: https://confrariadospretosvelhosdeumbanda.org/diretrizes-gerais/ \nMaiores informações: (19) 99655-6009 (WhatsApp) \nACEITAMOS DOAÇÕES PARA NOSSOS TRABALHOS SOCIAIS: \n\nAlimentos não-perecíveis (serão utilizados em cestas básicas para famílias carentes cadastradas e em marmitas para pessoas em situação de rua).\nTampinhas de garrafa pet\, lacres de latinhas de alumínio e cartelas de medicamentos usadas (serão utilizados para campanhas de arrecadação de cadeiras de rodas).\nRoupas e agasalhos em bom estado de conservação (serão utilizados para a Campanha do Agasalho).\nDOAÇÕES EM DINHEIRO PODEM SER FEITAS PELO PIX: CNPJ 23828397000100 – INSTITUTO CULTURAL CONFRARIA DOS PRETOS VELHOS DE UMBANDA.\n\nMuito obrigado e Oxalá abençoe!
URL:https://confrariadospretosvelhosdeumbanda.org/evento/aula-de-curimba-com-pai-murillo-2/
LOCATION:TUPJAET – Tenda de Umbanda Pai Joaquim D’Angola e Exú Tiriri / Limeira\, SP\, Rua Evaristo Jacon\, 424\, Limeira\, SP\, 13481-583\, Brasil
CATEGORIES:Curimba,Cursos
END:VEVENT
BEGIN:VEVENT
DTSTART;TZID=America/Sao_Paulo:20250724T200000
DTEND;TZID=America/Sao_Paulo:20250724T220000
DTSTAMP:20260424T072731
CREATED:20250702T001307Z
LAST-MODIFIED:20250702T001307Z
UID:10575-1753387200-1753394400@confrariadospretosvelhosdeumbanda.org
SUMMARY:AULA DE MEDITAÇÃO E EQUILÍBRIO ESPIRITUAL COM SRA. MARIA ALICE - EXCLUSIVO PARA MÉDIUNS DA CASA
DESCRIPTION:ANTES DE VISITAR NOSSA CASA CONHEÇA NOSSAS DIRETRIZES GERAIS: \nAcesse: https://confrariadospretosvelhosdeumbanda.org/diretrizes-gerais/ \nMaiores informações: (19) 99655-6009 (WhatsApp) \nACEITAMOS DOAÇÕES PARA NOSSOS TRABALHOS SOCIAIS: \n\nAlimentos não-perecíveis (serão utilizados em cestas básicas para famílias carentes cadastradas e em marmitas para pessoas em situação de rua).\nTampinhas de garrafa pet\, lacres de latinhas de alumínio e cartelas de medicamentos usadas (serão utilizados para campanhas de arrecadação de cadeiras de rodas).\nRoupas e agasalhos em bom estado de conservação (serão utilizados para a Campanha do Agasalho).\nDOAÇÕES EM DINHEIRO PODEM SER FEITAS PELO PIX: CNPJ 23828397000100 – INSTITUTO CULTURAL CONFRARIA DOS PRETOS VELHOS DE UMBANDA.\n\nMuito obrigado e Oxalá abençoe!
URL:https://confrariadospretosvelhosdeumbanda.org/evento/aula-de-meditacao-e-equilibrio-espiritual-com-sra-maria-alice-exclusivo-para-mediuns-da-casa/
LOCATION:TUA – Tenda de Umbanda Acolhimento / Limeira\, SP\, R. Dr. Wiliam Silva\, 540\, Limeira\, SP\, 13481-013\, Brasil
CATEGORIES:Cursos
ORGANIZER;CN="Mae Zilda e Pai Evandro":MAILTO:tupjaet@hotmail.com
END:VEVENT
END:VCALENDAR