BEGIN:VCALENDAR
VERSION:2.0
PRODID:-//Confraria dos Pretos Velhos de Umbanda - ECPv6.15.20//NONSGML v1.0//EN
CALSCALE:GREGORIAN
METHOD:PUBLISH
X-ORIGINAL-URL:https://confrariadospretosvelhosdeumbanda.org
X-WR-CALDESC:Eventos para Confraria dos Pretos Velhos de Umbanda
REFRESH-INTERVAL;VALUE=DURATION:PT1H
X-Robots-Tag:noindex
X-PUBLISHED-TTL:PT1H
BEGIN:VTIMEZONE
TZID:America/Sao_Paulo
BEGIN:STANDARD
TZOFFSETFROM:-0300
TZOFFSETTO:-0300
TZNAME:-03
DTSTART:20230101T000000
END:STANDARD
END:VTIMEZONE
BEGIN:VEVENT
DTSTART;TZID=America/Sao_Paulo:20240519T140000
DTEND;TZID=America/Sao_Paulo:20240519T170000
DTSTAMP:20260425T202006
CREATED:20240510T201938Z
LAST-MODIFIED:20240510T203242Z
UID:7887-1716127200-1716138000@confrariadospretosvelhosdeumbanda.org
SUMMARY:Lançamento do Livro "O Clarim de Aruanda" com o autor Diamantino Fernandes Trindade
DESCRIPTION:
URL:https://confrariadospretosvelhosdeumbanda.org/evento/lancamento-do-livro-o-clarim-de-aruanda-com-o-autor-diamantino-fernandes-trindade/
LOCATION:TUA – Tenda de Umbanda Acolhimento / Limeira\, SP\, R. Dr. Wiliam Silva\, 540\, Limeira\, SP\, 13481-013\, Brasil
CATEGORIES:Lançamento de Livro
ATTACH;FMTTYPE=image/png:https://confrariadospretosvelhosdeumbanda.org/wp-content/uploads/2024/05/O_Clarim_de_Aruanda-Divulgacao_Instagram.png
ORGANIZER;CN="Mae Zilda e Pai Evandro":MAILTO:tupjaet@hotmail.com
END:VEVENT
END:VCALENDAR