BEGIN:VCALENDAR
VERSION:2.0
PRODID:-//Confraria dos Pretos Velhos de Umbanda - ECPv6.15.20//NONSGML v1.0//EN
CALSCALE:GREGORIAN
METHOD:PUBLISH
X-ORIGINAL-URL:https://confrariadospretosvelhosdeumbanda.org
X-WR-CALDESC:Eventos para Confraria dos Pretos Velhos de Umbanda
REFRESH-INTERVAL;VALUE=DURATION:PT1H
X-Robots-Tag:noindex
X-PUBLISHED-TTL:PT1H
BEGIN:VTIMEZONE
TZID:America/Sao_Paulo
BEGIN:STANDARD
TZOFFSETFROM:-0300
TZOFFSETTO:-0300
TZNAME:-03
DTSTART:20240101T000000
END:STANDARD
END:VTIMEZONE
BEGIN:VEVENT
DTSTART;TZID=America/Sao_Paulo:20250111T160000
DTEND;TZID=America/Sao_Paulo:20250111T173000
DTSTAMP:20260425T003343
CREATED:20250108T154523Z
LAST-MODIFIED:20250108T161418Z
UID:9587-1736611200-1736616600@confrariadospretosvelhosdeumbanda.org
SUMMARY:Rito de Preparação da Pemba Pilada (APENAS PARA MÉDIUNS: MORUBIXABAS E ABARÉS-GUAÇÚ)
DESCRIPTION:ANTES DE VISITAR NOSSA CASA CONHEÇA NOSSAS DIRETRIZES GERAIS: \nAcesse: https://confrariadospretosvelhosdeumbanda.org/diretrizes-gerais/ \nMaiores informações: (19) 99655-6009 (WhatsApp) \nACEITAMOS DOAÇÕES PARA NOSSOS TRABALHOS SOCIAIS: \n\nAlimentos não-perecíveis (serão utilizados em cestas básicas para famílias carentes cadastradas e em marmitas para pessoas em situação de rua).\nTampinhas de garrafa pet\, lacres de latinhas de alumínio e cartelas de medicamentos usadas (serão utilizados para campanhas de arrecadação de cadeiras de rodas).\nRoupas e agasalhos em bom estado de conservação (serão utilizados para a Campanha do Agasalho).\nDOAÇÕES EM DINHEIRO PODEM SER FEITAS PELO PIX: CNPJ 23828397000100 – INSTITUTO CULTURAL CONFRARIA DOS PRETOS VELHOS DE UMBANDA.\n\nMuito obrigado e Oxalá abençoe!
URL:https://confrariadospretosvelhosdeumbanda.org/evento/rito-de-preparacao-da-pemba-pilada-apenas-para-mediuns-morubixabas-e-abares-guacu/
LOCATION:TUPJAET – Tenda de Umbanda Pai Joaquim D’Angola e Exú Tiriri / Limeira\, SP\, Rua Evaristo Jacon\, 424\, Limeira\, SP\, 13481-583\, Brasil
CATEGORIES:Eventos para Médiuns da Casa,Rituais
ORGANIZER;CN="Mae Zilda e Pai Evandro":MAILTO:tupjaet@hotmail.com
END:VEVENT
BEGIN:VEVENT
DTSTART;TZID=America/Sao_Paulo:20250111T173000
DTEND;TZID=America/Sao_Paulo:20250111T200000
DTSTAMP:20260425T003343
CREATED:20250108T155137Z
LAST-MODIFIED:20250108T155137Z
UID:9590-1736616600-1736625600@confrariadospretosvelhosdeumbanda.org
SUMMARY:Rito de Preparação do Amaci (APENAS PARA MÉDIUNS: MORUBIXABAS E ABARÉS-GUAÇÚ)
DESCRIPTION:ANTES DE VISITAR NOSSA CASA CONHEÇA NOSSAS DIRETRIZES GERAIS: \nAcesse: https://confrariadospretosvelhosdeumbanda.org/diretrizes-gerais/ \nMaiores informações: (19) 99655-6009 (WhatsApp) \nACEITAMOS DOAÇÕES PARA NOSSOS TRABALHOS SOCIAIS: \n\nAlimentos não-perecíveis (serão utilizados em cestas básicas para famílias carentes cadastradas e em marmitas para pessoas em situação de rua).\nTampinhas de garrafa pet\, lacres de latinhas de alumínio e cartelas de medicamentos usadas (serão utilizados para campanhas de arrecadação de cadeiras de rodas).\nRoupas e agasalhos em bom estado de conservação (serão utilizados para a Campanha do Agasalho).\nDOAÇÕES EM DINHEIRO PODEM SER FEITAS PELO PIX: CNPJ 23828397000100 – INSTITUTO CULTURAL CONFRARIA DOS PRETOS VELHOS DE UMBANDA.\n\nMuito obrigado e Oxalá abençoe!
URL:https://confrariadospretosvelhosdeumbanda.org/evento/rito-de-preparacao-do-amaci-apenas-para-mediuns-morubixabas-e-abares-guacu/
LOCATION:TUPJAET – Tenda de Umbanda Pai Joaquim D’Angola e Exú Tiriri / Limeira\, SP\, Rua Evaristo Jacon\, 424\, Limeira\, SP\, 13481-583\, Brasil
CATEGORIES:Eventos para Médiuns da Casa,Rituais
ORGANIZER;CN="Mae Zilda e Pai Evandro":MAILTO:tupjaet@hotmail.com
END:VEVENT
END:VCALENDAR