BEGIN:VCALENDAR
VERSION:2.0
PRODID:-//Confraria dos Pretos Velhos de Umbanda - ECPv6.15.20//NONSGML v1.0//EN
CALSCALE:GREGORIAN
METHOD:PUBLISH
X-WR-CALNAME:Confraria dos Pretos Velhos de Umbanda
X-ORIGINAL-URL:https://confrariadospretosvelhosdeumbanda.org
X-WR-CALDESC:Eventos para Confraria dos Pretos Velhos de Umbanda
REFRESH-INTERVAL;VALUE=DURATION:PT1H
X-Robots-Tag:noindex
X-PUBLISHED-TTL:PT1H
BEGIN:VTIMEZONE
TZID:America/Sao_Paulo
BEGIN:STANDARD
TZOFFSETFROM:-0300
TZOFFSETTO:-0300
TZNAME:-03
DTSTART:20230101T000000
END:STANDARD
END:VTIMEZONE
BEGIN:VEVENT
DTSTART;TZID=America/Sao_Paulo:20241002T200000
DTEND;TZID=America/Sao_Paulo:20241002T220000
DTSTAMP:20260425T003140
CREATED:20241001T235426Z
LAST-MODIFIED:20241001T235426Z
UID:8985-1727899200-1727906400@confrariadospretosvelhosdeumbanda.org
SUMMARY:SESSÃO DE CARIDADE - CABOCLOS
DESCRIPTION:ANTES DE VISITAR NOSSA CASA CONHEÇA NOSSAS DIRETRIZES GERAIS: \nAcesse: https://confrariadospretosvelhosdeumbanda.org/diretrizes-gerais/ \nMaiores informações: (19) 99655-6009 (WhatsApp) \nACEITAMOS DOAÇÕES PARA NOSSOS TRABALHOS SOCIAIS: \n\nAlimentos não-perecíveis (serão utilizados em cestas básicas para famílias carentes cadastradas e em marmitas para pessoas em situação de rua).\nTampinhas de garrafa pet\, lacres de latinhas de alumínio e cartelas de medicamentos usadas (serão utilizados para campanhas de arrecadação de cadeiras de rodas).\nRoupas e agasalhos em bom estado de conservação (serão utilizados para a Campanha do Agasalho).\nDOAÇÕES EM DINHEIRO PODEM SER FEITAS PELO PIX: CNPJ 23828397000100 – INSTITUTO CULTURAL CONFRARIA DOS PRETOS VELHOS DE UMBANDA.\n\nMuito obrigado e Oxalá abençoe!
URL:https://confrariadospretosvelhosdeumbanda.org/evento/sessao-de-caridade-caboclos-11/
LOCATION:TUA – Tenda de Umbanda Acolhimento / Limeira\, SP\, R. Dr. Wiliam Silva\, 540\, Limeira\, SP\, 13481-013\, Brasil
CATEGORIES:Sessão de Caridade
ORGANIZER;CN="Mae Zilda e Pai Evandro":MAILTO:tupjaet@hotmail.com
END:VEVENT
BEGIN:VEVENT
DTSTART;TZID=America/Sao_Paulo:20241005T180000
DTEND;TZID=America/Sao_Paulo:20241005T200000
DTSTAMP:20260425T003140
CREATED:20241001T235530Z
LAST-MODIFIED:20241001T235530Z
UID:8987-1728151200-1728158400@confrariadospretosvelhosdeumbanda.org
SUMMARY:SESSÃO DE CARIDADE - BOIADEIROS
DESCRIPTION:ANTES DE VISITAR NOSSA CASA CONHEÇA NOSSAS DIRETRIZES GERAIS: \nAcesse: https://confrariadospretosvelhosdeumbanda.org/diretrizes-gerais/ \nMaiores informações: (19) 99655-6009 (WhatsApp) \nACEITAMOS DOAÇÕES PARA NOSSOS TRABALHOS SOCIAIS: \n\nAlimentos não-perecíveis (serão utilizados em cestas básicas para famílias carentes cadastradas e em marmitas para pessoas em situação de rua).\nTampinhas de garrafa pet\, lacres de latinhas de alumínio e cartelas de medicamentos usadas (serão utilizados para campanhas de arrecadação de cadeiras de rodas).\nRoupas e agasalhos em bom estado de conservação (serão utilizados para a Campanha do Agasalho).\nDOAÇÕES EM DINHEIRO PODEM SER FEITAS PELO PIX: CNPJ 23828397000100 – INSTITUTO CULTURAL CONFRARIA DOS PRETOS VELHOS DE UMBANDA.\n\nMuito obrigado e Oxalá abençoe!
URL:https://confrariadospretosvelhosdeumbanda.org/evento/sessao-de-caridade-boiadeiros-8/
LOCATION:TUPJAET – Tenda de Umbanda Pai Joaquim D’Angola e Exú Tiriri / Limeira\, SP\, Rua Evaristo Jacon\, 424\, Limeira\, SP\, 13481-583\, Brasil
CATEGORIES:Sessão de Caridade
ORGANIZER;CN="Mae Zilda e Pai Evandro":MAILTO:tupjaet@hotmail.com
END:VEVENT
BEGIN:VEVENT
DTSTART;TZID=America/Sao_Paulo:20241012T180000
DTEND;TZID=America/Sao_Paulo:20241012T200000
DTSTAMP:20260425T003140
CREATED:20241001T235844Z
LAST-MODIFIED:20241001T235844Z
UID:8991-1728756000-1728763200@confrariadospretosvelhosdeumbanda.org
SUMMARY:SESSÃO DE CARIDADE - PRETOS VELHOS
DESCRIPTION:ANTES DE VISITAR NOSSA CASA CONHEÇA NOSSAS DIRETRIZES GERAIS: \nAcesse: https://confrariadospretosvelhosdeumbanda.org/diretrizes-gerais/ \nMaiores informações: (19) 99655-6009 (WhatsApp) \nACEITAMOS DOAÇÕES PARA NOSSOS TRABALHOS SOCIAIS: \n\nAlimentos não-perecíveis (serão utilizados em cestas básicas para famílias carentes cadastradas e em marmitas para pessoas em situação de rua).\nTampinhas de garrafa pet\, lacres de latinhas de alumínio e cartelas de medicamentos usadas (serão utilizados para campanhas de arrecadação de cadeiras de rodas).\nRoupas e agasalhos em bom estado de conservação (serão utilizados para a Campanha do Agasalho).\nDOAÇÕES EM DINHEIRO PODEM SER FEITAS PELO PIX: CNPJ 23828397000100 – INSTITUTO CULTURAL CONFRARIA DOS PRETOS VELHOS DE UMBANDA.\n\nMuito obrigado e Oxalá abençoe!
URL:https://confrariadospretosvelhosdeumbanda.org/evento/sessao-de-caridade-pretos-velhos-8/
LOCATION:TUPJAET – Tenda de Umbanda Pai Joaquim D’Angola e Exú Tiriri / Limeira\, SP\, Rua Evaristo Jacon\, 424\, Limeira\, SP\, 13481-583\, Brasil
CATEGORIES:Sessão de Caridade
ORGANIZER;CN="Mae Zilda e Pai Evandro":MAILTO:tupjaet@hotmail.com
END:VEVENT
BEGIN:VEVENT
DTSTART;TZID=America/Sao_Paulo:20241016T200000
DTEND;TZID=America/Sao_Paulo:20241016T220000
DTSTAMP:20260425T003140
CREATED:20241002T000219Z
LAST-MODIFIED:20241002T000237Z
UID:8995-1729108800-1729116000@confrariadospretosvelhosdeumbanda.org
SUMMARY:SESSÃO DE CARIDADE - BAIANOS
DESCRIPTION:ANTES DE VISITAR NOSSA CASA CONHEÇA NOSSAS DIRETRIZES GERAIS: \nAcesse: https://confrariadospretosvelhosdeumbanda.org/diretrizes-gerais/ \nMaiores informações: (19) 99655-6009 (WhatsApp) \nACEITAMOS DOAÇÕES PARA NOSSOS TRABALHOS SOCIAIS: \n\nAlimentos não-perecíveis (serão utilizados em cestas básicas para famílias carentes cadastradas e em marmitas para pessoas em situação de rua).\nTampinhas de garrafa pet\, lacres de latinhas de alumínio e cartelas de medicamentos usadas (serão utilizados para campanhas de arrecadação de cadeiras de rodas).\nRoupas e agasalhos em bom estado de conservação (serão utilizados para a Campanha do Agasalho).\nDOAÇÕES EM DINHEIRO PODEM SER FEITAS PELO PIX: CNPJ 23828397000100 – INSTITUTO CULTURAL CONFRARIA DOS PRETOS VELHOS DE UMBANDA.\n\nMuito obrigado e Oxalá abençoe!
URL:https://confrariadospretosvelhosdeumbanda.org/evento/sessao-de-caridade-baianosq/
LOCATION:TUA – Tenda de Umbanda Acolhimento / Limeira\, SP\, R. Dr. Wiliam Silva\, 540\, Limeira\, SP\, 13481-013\, Brasil
CATEGORIES:Sessão de Caridade
ORGANIZER;CN="Mae Zilda e Pai Evandro":MAILTO:tupjaet@hotmail.com
END:VEVENT
BEGIN:VEVENT
DTSTART;TZID=America/Sao_Paulo:20241019T180000
DTEND;TZID=America/Sao_Paulo:20241019T200000
DTSTAMP:20260425T003140
CREATED:20241002T000415Z
LAST-MODIFIED:20241002T000415Z
UID:8998-1729360800-1729368000@confrariadospretosvelhosdeumbanda.org
SUMMARY:ANIVERSÁRIO DE 23 ANOS DA TUPJAET - HOMENAGEM AOS BAIANOS E BOIADEIROS - SESSÃO DE CARIDADE
DESCRIPTION:ANTES DE VISITAR NOSSA CASA CONHEÇA NOSSAS DIRETRIZES GERAIS: \nAcesse: https://confrariadospretosvelhosdeumbanda.org/diretrizes-gerais/ \nMaiores informações: (19) 99655-6009 (WhatsApp) \nACEITAMOS DOAÇÕES PARA NOSSOS TRABALHOS SOCIAIS: \n\nAlimentos não-perecíveis (serão utilizados em cestas básicas para famílias carentes cadastradas e em marmitas para pessoas em situação de rua).\nTampinhas de garrafa pet\, lacres de latinhas de alumínio e cartelas de medicamentos usadas (serão utilizados para campanhas de arrecadação de cadeiras de rodas).\nRoupas e agasalhos em bom estado de conservação (serão utilizados para a Campanha do Agasalho).\nDOAÇÕES EM DINHEIRO PODEM SER FEITAS PELO PIX: CNPJ 23828397000100 – INSTITUTO CULTURAL CONFRARIA DOS PRETOS VELHOS DE UMBANDA.\n\nMuito obrigado e Oxalá abençoe!
URL:https://confrariadospretosvelhosdeumbanda.org/evento/aniversario-de-23-anos-da-tupjaet-homenagem-aos-baianos-e-boiadeiros-sessao-de-caridade/
LOCATION:TUPJAET – Tenda de Umbanda Pai Joaquim D’Angola e Exú Tiriri / Limeira\, SP\, Rua Evaristo Jacon\, 424\, Limeira\, SP\, 13481-583\, Brasil
CATEGORIES:Eventos,Homenagens,Sessão de Caridade
ORGANIZER;CN="Mae Zilda e Pai Evandro":MAILTO:tupjaet@hotmail.com
END:VEVENT
BEGIN:VEVENT
DTSTART;TZID=America/Sao_Paulo:20241023T200000
DTEND;TZID=America/Sao_Paulo:20241023T220000
DTSTAMP:20260425T003140
CREATED:20241002T000537Z
LAST-MODIFIED:20241002T000537Z
UID:9000-1729713600-1729720800@confrariadospretosvelhosdeumbanda.org
SUMMARY:SESSÃO DE CARIDADE - PRETOS VELHOS
DESCRIPTION:ANTES DE VISITAR NOSSA CASA CONHEÇA NOSSAS DIRETRIZES GERAIS: \nAcesse: https://confrariadospretosvelhosdeumbanda.org/diretrizes-gerais/ \nMaiores informações: (19) 99655-6009 (WhatsApp) \nACEITAMOS DOAÇÕES PARA NOSSOS TRABALHOS SOCIAIS: \n\nAlimentos não-perecíveis (serão utilizados em cestas básicas para famílias carentes cadastradas e em marmitas para pessoas em situação de rua).\nTampinhas de garrafa pet\, lacres de latinhas de alumínio e cartelas de medicamentos usadas (serão utilizados para campanhas de arrecadação de cadeiras de rodas).\nRoupas e agasalhos em bom estado de conservação (serão utilizados para a Campanha do Agasalho).\nDOAÇÕES EM DINHEIRO PODEM SER FEITAS PELO PIX: CNPJ 23828397000100 – INSTITUTO CULTURAL CONFRARIA DOS PRETOS VELHOS DE UMBANDA.\n\nMuito obrigado e Oxalá abençoe!
URL:https://confrariadospretosvelhosdeumbanda.org/evento/sessao-de-caridade-pretos-velhos-9/
LOCATION:TUA – Tenda de Umbanda Acolhimento / Limeira\, SP\, R. Dr. Wiliam Silva\, 540\, Limeira\, SP\, 13481-013\, Brasil
CATEGORIES:Sessão de Caridade
ORGANIZER;CN="Mae Zilda e Pai Evandro":MAILTO:tupjaet@hotmail.com
END:VEVENT
BEGIN:VEVENT
DTSTART;TZID=America/Sao_Paulo:20241030T180000
DTEND;TZID=America/Sao_Paulo:20241030T200000
DTSTAMP:20260425T003140
CREATED:20241002T000914Z
LAST-MODIFIED:20241002T000914Z
UID:9006-1730311200-1730318400@confrariadospretosvelhosdeumbanda.org
SUMMARY:SESSÃO DE CARIDADE - EXUS
DESCRIPTION:ANTES DE VISITAR NOSSA CASA CONHEÇA NOSSAS DIRETRIZES GERAIS: \nAcesse: https://confrariadospretosvelhosdeumbanda.org/diretrizes-gerais/ \nMaiores informações: (19) 99655-6009 (WhatsApp) \nACEITAMOS DOAÇÕES PARA NOSSOS TRABALHOS SOCIAIS: \n\nAlimentos não-perecíveis (serão utilizados em cestas básicas para famílias carentes cadastradas e em marmitas para pessoas em situação de rua).\nTampinhas de garrafa pet\, lacres de latinhas de alumínio e cartelas de medicamentos usadas (serão utilizados para campanhas de arrecadação de cadeiras de rodas).\nRoupas e agasalhos em bom estado de conservação (serão utilizados para a Campanha do Agasalho).\nDOAÇÕES EM DINHEIRO PODEM SER FEITAS PELO PIX: CNPJ 23828397000100 – INSTITUTO CULTURAL CONFRARIA DOS PRETOS VELHOS DE UMBANDA.\n\nMuito obrigado e Oxalá abençoe!
URL:https://confrariadospretosvelhosdeumbanda.org/evento/sessao-de-caridade-exus-13/
LOCATION:TUA – Tenda de Umbanda Acolhimento / Limeira\, SP\, R. Dr. Wiliam Silva\, 540\, Limeira\, SP\, 13481-013\, Brasil
CATEGORIES:Sessão de Caridade
ORGANIZER;CN="Mae Zilda e Pai Evandro":MAILTO:tupjaet@hotmail.com
END:VEVENT
END:VCALENDAR