BEGIN:VCALENDAR
VERSION:2.0
PRODID:-//Confraria dos Pretos Velhos de Umbanda - ECPv6.15.20//NONSGML v1.0//EN
CALSCALE:GREGORIAN
METHOD:PUBLISH
X-WR-CALNAME:Confraria dos Pretos Velhos de Umbanda
X-ORIGINAL-URL:https://confrariadospretosvelhosdeumbanda.org
X-WR-CALDESC:Eventos para Confraria dos Pretos Velhos de Umbanda
REFRESH-INTERVAL;VALUE=DURATION:PT1H
X-Robots-Tag:noindex
X-PUBLISHED-TTL:PT1H
BEGIN:VTIMEZONE
TZID:America/Sao_Paulo
BEGIN:STANDARD
TZOFFSETFROM:-0300
TZOFFSETTO:-0300
TZNAME:-03
DTSTART:20240101T000000
END:STANDARD
END:VTIMEZONE
BEGIN:VEVENT
DTSTART;TZID=America/Sao_Paulo:20250205T200000
DTEND;TZID=America/Sao_Paulo:20250205T220000
DTSTAMP:20260424T175830
CREATED:20250202T203344Z
LAST-MODIFIED:20250202T203344Z
UID:9683-1738785600-1738792800@confrariadospretosvelhosdeumbanda.org
SUMMARY:SESSÃO DE CARIDADE – CABOCLOS
DESCRIPTION:ANTES DE VISITAR NOSSA CASA CONHEÇA NOSSAS DIRETRIZES GERAIS: \nAcesse: https://confrariadospretosvelhosdeumbanda.org/diretrizes-gerais/ \nMaiores informações: (19) 99655-6009 (WhatsApp) \nACEITAMOS DOAÇÕES PARA NOSSOS TRABALHOS SOCIAIS: \n\nAlimentos não-perecíveis (serão utilizados em cestas básicas para famílias carentes cadastradas e em marmitas para pessoas em situação de rua).\nTampinhas de garrafa pet\, lacres de latinhas de alumínio e cartelas de medicamentos usadas (serão utilizados para campanhas de arrecadação de cadeiras de rodas).\nRoupas e agasalhos em bom estado de conservação (serão utilizados para a Campanha do Agasalho).\nDOAÇÕES EM DINHEIRO PODEM SER FEITAS PELO PIX: CNPJ 23828397000100 – INSTITUTO CULTURAL CONFRARIA DOS PRETOS VELHOS DE UMBANDA.\n\nMuito obrigado e Oxalá abençoe!
URL:https://confrariadospretosvelhosdeumbanda.org/evento/sessao-de-caridade-caboclos-12/
LOCATION:TUA – Tenda de Umbanda Acolhimento / Limeira\, SP\, R. Dr. Wiliam Silva\, 540\, Limeira\, SP\, 13481-013\, Brasil
CATEGORIES:Sessão de Caridade
ORGANIZER;CN="Mae Zilda e Pai Evandro":MAILTO:tupjaet@hotmail.com
END:VEVENT
BEGIN:VEVENT
DTSTART;TZID=America/Sao_Paulo:20250208T180000
DTEND;TZID=America/Sao_Paulo:20250208T200000
DTSTAMP:20260424T175830
CREATED:20250202T203647Z
LAST-MODIFIED:20250202T203647Z
UID:9685-1739037600-1739044800@confrariadospretosvelhosdeumbanda.org
SUMMARY:SESSÃO DE CARIDADE – BOIADEIROS
DESCRIPTION:ANTES DE VISITAR NOSSA CASA CONHEÇA NOSSAS DIRETRIZES GERAIS: \nAcesse: https://confrariadospretosvelhosdeumbanda.org/diretrizes-gerais/ \nMaiores informações: (19) 99655-6009 (WhatsApp) \nACEITAMOS DOAÇÕES PARA NOSSOS TRABALHOS SOCIAIS: \n\nAlimentos não-perecíveis (serão utilizados em cestas básicas para famílias carentes cadastradas e em marmitas para pessoas em situação de rua).\nTampinhas de garrafa pet\, lacres de latinhas de alumínio e cartelas de medicamentos usadas (serão utilizados para campanhas de arrecadação de cadeiras de rodas).\nRoupas e agasalhos em bom estado de conservação (serão utilizados para a Campanha do Agasalho).\nDOAÇÕES EM DINHEIRO PODEM SER FEITAS PELO PIX: CNPJ 23828397000100 – INSTITUTO CULTURAL CONFRARIA DOS PRETOS VELHOS DE UMBANDA.\n\nMuito obrigado e Oxalá abençoe!
URL:https://confrariadospretosvelhosdeumbanda.org/evento/sessao-de-caridade-boiadeiros-9/
LOCATION:TUPJAET – Tenda de Umbanda Pai Joaquim D’Angola e Exú Tiriri / Limeira\, SP\, Rua Evaristo Jacon\, 424\, Limeira\, SP\, 13481-583\, Brasil
CATEGORIES:Sessão de Caridade
ORGANIZER;CN="Mae Zilda e Pai Evandro":MAILTO:tupjaet@hotmail.com
END:VEVENT
BEGIN:VEVENT
DTSTART;TZID=America/Sao_Paulo:20250212T200000
DTEND;TZID=America/Sao_Paulo:20250212T220000
DTSTAMP:20260424T175830
CREATED:20250202T203728Z
LAST-MODIFIED:20250202T203728Z
UID:9687-1739390400-1739397600@confrariadospretosvelhosdeumbanda.org
SUMMARY:SESSÃO DE CARIDADE – BAIANOS
DESCRIPTION:ANTES DE VISITAR NOSSA CASA CONHEÇA NOSSAS DIRETRIZES GERAIS: \nAcesse: https://confrariadospretosvelhosdeumbanda.org/diretrizes-gerais/ \nMaiores informações: (19) 99655-6009 (WhatsApp) \nACEITAMOS DOAÇÕES PARA NOSSOS TRABALHOS SOCIAIS: \n\nAlimentos não-perecíveis (serão utilizados em cestas básicas para famílias carentes cadastradas e em marmitas para pessoas em situação de rua).\nTampinhas de garrafa pet\, lacres de latinhas de alumínio e cartelas de medicamentos usadas (serão utilizados para campanhas de arrecadação de cadeiras de rodas).\nRoupas e agasalhos em bom estado de conservação (serão utilizados para a Campanha do Agasalho).\nDOAÇÕES EM DINHEIRO PODEM SER FEITAS PELO PIX: CNPJ 23828397000100 – INSTITUTO CULTURAL CONFRARIA DOS PRETOS VELHOS DE UMBANDA.\n\nMuito obrigado e Oxalá abençoe!
URL:https://confrariadospretosvelhosdeumbanda.org/evento/sessao-de-caridade-baianos-11/
LOCATION:TUA – Tenda de Umbanda Acolhimento / Limeira\, SP\, R. Dr. Wiliam Silva\, 540\, Limeira\, SP\, 13481-013\, Brasil
CATEGORIES:Sessão de Caridade
ORGANIZER;CN="Mae Zilda e Pai Evandro":MAILTO:tupjaet@hotmail.com
END:VEVENT
BEGIN:VEVENT
DTSTART;TZID=America/Sao_Paulo:20250215T180000
DTEND;TZID=America/Sao_Paulo:20250215T200000
DTSTAMP:20260424T175830
CREATED:20250202T203923Z
LAST-MODIFIED:20250202T203923Z
UID:9691-1739642400-1739649600@confrariadospretosvelhosdeumbanda.org
SUMMARY:SESSÃO DE CARIDADE – PRETOS VELHOS
DESCRIPTION:ANTES DE VISITAR NOSSA CASA CONHEÇA NOSSAS DIRETRIZES GERAIS: \nAcesse: https://confrariadospretosvelhosdeumbanda.org/diretrizes-gerais/ \nMaiores informações: (19) 99655-6009 (WhatsApp) \nACEITAMOS DOAÇÕES PARA NOSSOS TRABALHOS SOCIAIS: \n\nAlimentos não-perecíveis (serão utilizados em cestas básicas para famílias carentes cadastradas e em marmitas para pessoas em situação de rua).\nTampinhas de garrafa pet\, lacres de latinhas de alumínio e cartelas de medicamentos usadas (serão utilizados para campanhas de arrecadação de cadeiras de rodas).\nRoupas e agasalhos em bom estado de conservação (serão utilizados para a Campanha do Agasalho).\nDOAÇÕES EM DINHEIRO PODEM SER FEITAS PELO PIX: CNPJ 23828397000100 – INSTITUTO CULTURAL CONFRARIA DOS PRETOS VELHOS DE UMBANDA.\n\nMuito obrigado e Oxalá abençoe!
URL:https://confrariadospretosvelhosdeumbanda.org/evento/sessao-de-caridade-pretos-velhos-11/
LOCATION:TUPJAET – Tenda de Umbanda Pai Joaquim D’Angola e Exú Tiriri / Limeira\, SP\, Rua Evaristo Jacon\, 424\, Limeira\, SP\, 13481-583\, Brasil
CATEGORIES:Sessão de Caridade
ORGANIZER;CN="Mae Zilda e Pai Evandro":MAILTO:tupjaet@hotmail.com
END:VEVENT
BEGIN:VEVENT
DTSTART;TZID=America/Sao_Paulo:20250222T180000
DTEND;TZID=America/Sao_Paulo:20250222T200000
DTSTAMP:20260424T175830
CREATED:20250202T204240Z
LAST-MODIFIED:20250202T212216Z
UID:9695-1740247200-1740254400@confrariadospretosvelhosdeumbanda.org
SUMMARY:HOMENAGEM AO SR. EXÚ TIRIRI\, SENHORES EXUS E SENHORAS POMBAGIRAS + SESSÃO DE CARIDADE – EXUS
DESCRIPTION:ANTES DE VISITAR NOSSA CASA CONHEÇA NOSSAS DIRETRIZES GERAIS: \nAcesse: https://confrariadospretosvelhosdeumbanda.org/diretrizes-gerais/ \nMaiores informações: (19) 99655-6009 (WhatsApp) \nACEITAMOS DOAÇÕES PARA NOSSOS TRABALHOS SOCIAIS: \n\nAlimentos não-perecíveis (serão utilizados em cestas básicas para famílias carentes cadastradas e em marmitas para pessoas em situação de rua).\nTampinhas de garrafa pet\, lacres de latinhas de alumínio e cartelas de medicamentos usadas (serão utilizados para campanhas de arrecadação de cadeiras de rodas).\nRoupas e agasalhos em bom estado de conservação (serão utilizados para a Campanha do Agasalho).\nDOAÇÕES EM DINHEIRO PODEM SER FEITAS PELO PIX: CNPJ 23828397000100 – INSTITUTO CULTURAL CONFRARIA DOS PRETOS VELHOS DE UMBANDA.\n\nMuito obrigado e Oxalá abençoe!
URL:https://confrariadospretosvelhosdeumbanda.org/evento/homenagem-ao-sr-exu-tiriri-senhores-exus-e-senhoras-pombagiras-sessao-de-caridade-exus/
LOCATION:TUA – Tenda de Umbanda Acolhimento / Limeira\, SP\, R. Dr. Wiliam Silva\, 540\, Limeira\, SP\, 13481-013\, Brasil
CATEGORIES:Homenagens,Sessão de Caridade
ATTACH;FMTTYPE=image/png:https://confrariadospretosvelhosdeumbanda.org/wp-content/uploads/2025/02/EXU_2025.png
ORGANIZER;CN="Mae Zilda e Pai Evandro":MAILTO:tupjaet@hotmail.com
END:VEVENT
BEGIN:VEVENT
DTSTART;TZID=America/Sao_Paulo:20250226T200000
DTEND;TZID=America/Sao_Paulo:20250226T220000
DTSTAMP:20260424T175830
CREATED:20250202T210104Z
LAST-MODIFIED:20250202T210104Z
UID:9697-1740600000-1740607200@confrariadospretosvelhosdeumbanda.org
SUMMARY:SESSÃO DE CARIDADE – IBEJADA
DESCRIPTION:ANTES DE VISITAR NOSSA CASA CONHEÇA NOSSAS DIRETRIZES GERAIS: \nAcesse: https://confrariadospretosvelhosdeumbanda.org/diretrizes-gerais/ \nMaiores informações: (19) 99655-6009 (WhatsApp) \nACEITAMOS DOAÇÕES PARA NOSSOS TRABALHOS SOCIAIS: \n\nAlimentos não-perecíveis (serão utilizados em cestas básicas para famílias carentes cadastradas e em marmitas para pessoas em situação de rua).\nTampinhas de garrafa pet\, lacres de latinhas de alumínio e cartelas de medicamentos usadas (serão utilizados para campanhas de arrecadação de cadeiras de rodas).\nRoupas e agasalhos em bom estado de conservação (serão utilizados para a Campanha do Agasalho).\nDOAÇÕES EM DINHEIRO PODEM SER FEITAS PELO PIX: CNPJ 23828397000100 – INSTITUTO CULTURAL CONFRARIA DOS PRETOS VELHOS DE UMBANDA.\n\nMuito obrigado e Oxalá abençoe!
URL:https://confrariadospretosvelhosdeumbanda.org/evento/sessao-de-caridade-ibejada/
LOCATION:TUA – Tenda de Umbanda Acolhimento / Limeira\, SP\, R. Dr. Wiliam Silva\, 540\, Limeira\, SP\, 13481-013\, Brasil
CATEGORIES:Sessão de Caridade
ORGANIZER;CN="Mae Zilda e Pai Evandro":MAILTO:tupjaet@hotmail.com
END:VEVENT
END:VCALENDAR