BEGIN:VCALENDAR
VERSION:2.0
PRODID:-//Confraria dos Pretos Velhos de Umbanda - ECPv6.15.20//NONSGML v1.0//EN
CALSCALE:GREGORIAN
METHOD:PUBLISH
X-WR-CALNAME:Confraria dos Pretos Velhos de Umbanda
X-ORIGINAL-URL:https://confrariadospretosvelhosdeumbanda.org
X-WR-CALDESC:Eventos para Confraria dos Pretos Velhos de Umbanda
REFRESH-INTERVAL;VALUE=DURATION:PT1H
X-Robots-Tag:noindex
X-PUBLISHED-TTL:PT1H
BEGIN:VTIMEZONE
TZID:America/Sao_Paulo
BEGIN:STANDARD
TZOFFSETFROM:-0300
TZOFFSETTO:-0300
TZNAME:-03
DTSTART:20240101T000000
END:STANDARD
END:VTIMEZONE
BEGIN:VEVENT
DTSTART;TZID=America/Sao_Paulo:20250305T200000
DTEND;TZID=America/Sao_Paulo:20250305T220000
DTSTAMP:20260424T162517
CREATED:20250301T032653Z
LAST-MODIFIED:20250301T032653Z
UID:9887-1741204800-1741212000@confrariadospretosvelhosdeumbanda.org
SUMMARY:SESSÃO DE CARIDADE – BAIANOS
DESCRIPTION:ANTES DE VISITAR NOSSA CASA CONHEÇA NOSSAS DIRETRIZES GERAIS: \nAcesse: https://confrariadospretosvelhosdeumbanda.org/diretrizes-gerais/ \nMaiores informações: (19) 99655-6009 (WhatsApp) \nACEITAMOS DOAÇÕES PARA NOSSOS TRABALHOS SOCIAIS: \n\nAlimentos não-perecíveis (serão utilizados em cestas básicas para famílias carentes cadastradas e em marmitas para pessoas em situação de rua).\nTampinhas de garrafa pet\, lacres de latinhas de alumínio e cartelas de medicamentos usadas (serão utilizados para campanhas de arrecadação de cadeiras de rodas).\nRoupas e agasalhos em bom estado de conservação (serão utilizados para a Campanha do Agasalho).\nDOAÇÕES EM DINHEIRO PODEM SER FEITAS PELO PIX: CNPJ 23828397000100 – INSTITUTO CULTURAL CONFRARIA DOS PRETOS VELHOS DE UMBANDA.\n\nMuito obrigado e Oxalá abençoe!
URL:https://confrariadospretosvelhosdeumbanda.org/evento/sessao-de-caridade-baianos-12/
LOCATION:TUA – Tenda de Umbanda Acolhimento / Limeira\, SP\, R. Dr. Wiliam Silva\, 540\, Limeira\, SP\, 13481-013\, Brasil
CATEGORIES:Sessão de Caridade
ORGANIZER;CN="Mae Zilda e Pai Evandro":MAILTO:tupjaet@hotmail.com
END:VEVENT
BEGIN:VEVENT
DTSTART;TZID=America/Sao_Paulo:20250308T180000
DTEND;TZID=America/Sao_Paulo:20250308T200000
DTSTAMP:20260424T162517
CREATED:20250301T032729Z
LAST-MODIFIED:20250301T032729Z
UID:9889-1741456800-1741464000@confrariadospretosvelhosdeumbanda.org
SUMMARY:SESSÃO DE CARIDADE – CABOCLOS
DESCRIPTION:ANTES DE VISITAR NOSSA CASA CONHEÇA NOSSAS DIRETRIZES GERAIS: \nAcesse: https://confrariadospretosvelhosdeumbanda.org/diretrizes-gerais/ \nMaiores informações: (19) 99655-6009 (WhatsApp) \nACEITAMOS DOAÇÕES PARA NOSSOS TRABALHOS SOCIAIS: \n\nAlimentos não-perecíveis (serão utilizados em cestas básicas para famílias carentes cadastradas e em marmitas para pessoas em situação de rua).\nTampinhas de garrafa pet\, lacres de latinhas de alumínio e cartelas de medicamentos usadas (serão utilizados para campanhas de arrecadação de cadeiras de rodas).\nRoupas e agasalhos em bom estado de conservação (serão utilizados para a Campanha do Agasalho).\nDOAÇÕES EM DINHEIRO PODEM SER FEITAS PELO PIX: CNPJ 23828397000100 – INSTITUTO CULTURAL CONFRARIA DOS PRETOS VELHOS DE UMBANDA.\n\nMuito obrigado e Oxalá abençoe!
URL:https://confrariadospretosvelhosdeumbanda.org/evento/sessao-de-caridade-caboclos-13/
LOCATION:TUPJAET – Tenda de Umbanda Pai Joaquim D’Angola e Exú Tiriri / Limeira\, SP\, Rua Evaristo Jacon\, 424\, Limeira\, SP\, 13481-583\, Brasil
CATEGORIES:Sessão de Caridade
ORGANIZER;CN="Mae Zilda e Pai Evandro":MAILTO:tupjaet@hotmail.com
END:VEVENT
BEGIN:VEVENT
DTSTART;TZID=America/Sao_Paulo:20250312T200000
DTEND;TZID=America/Sao_Paulo:20250312T220000
DTSTAMP:20260424T162517
CREATED:20250301T032819Z
LAST-MODIFIED:20250301T032819Z
UID:9891-1741809600-1741816800@confrariadospretosvelhosdeumbanda.org
SUMMARY:SESSÃO DE CARIDADE – PRETOS VELHOS
DESCRIPTION:ANTES DE VISITAR NOSSA CASA CONHEÇA NOSSAS DIRETRIZES GERAIS: \nAcesse: https://confrariadospretosvelhosdeumbanda.org/diretrizes-gerais/ \nMaiores informações: (19) 99655-6009 (WhatsApp) \nACEITAMOS DOAÇÕES PARA NOSSOS TRABALHOS SOCIAIS: \n\nAlimentos não-perecíveis (serão utilizados em cestas básicas para famílias carentes cadastradas e em marmitas para pessoas em situação de rua).\nTampinhas de garrafa pet\, lacres de latinhas de alumínio e cartelas de medicamentos usadas (serão utilizados para campanhas de arrecadação de cadeiras de rodas).\nRoupas e agasalhos em bom estado de conservação (serão utilizados para a Campanha do Agasalho).\nDOAÇÕES EM DINHEIRO PODEM SER FEITAS PELO PIX: CNPJ 23828397000100 – INSTITUTO CULTURAL CONFRARIA DOS PRETOS VELHOS DE UMBANDA.\n\nMuito obrigado e Oxalá abençoe!
URL:https://confrariadospretosvelhosdeumbanda.org/evento/sessao-de-caridade-pretos-velhos-12/
LOCATION:TUA – Tenda de Umbanda Acolhimento / Limeira\, SP\, R. Dr. Wiliam Silva\, 540\, Limeira\, SP\, 13481-013\, Brasil
CATEGORIES:Sessão de Caridade
ORGANIZER;CN="Mae Zilda e Pai Evandro":MAILTO:tupjaet@hotmail.com
END:VEVENT
BEGIN:VEVENT
DTSTART;TZID=America/Sao_Paulo:20250315T180000
DTEND;TZID=America/Sao_Paulo:20250315T200000
DTSTAMP:20260424T162517
CREATED:20250301T032912Z
LAST-MODIFIED:20250301T032912Z
UID:9893-1742061600-1742068800@confrariadospretosvelhosdeumbanda.org
SUMMARY:SESSÃO DE CARIDADE – BOIADEIROS
DESCRIPTION:ANTES DE VISITAR NOSSA CASA CONHEÇA NOSSAS DIRETRIZES GERAIS: \nAcesse: https://confrariadospretosvelhosdeumbanda.org/diretrizes-gerais/ \nMaiores informações: (19) 99655-6009 (WhatsApp) \nACEITAMOS DOAÇÕES PARA NOSSOS TRABALHOS SOCIAIS: \n\nAlimentos não-perecíveis (serão utilizados em cestas básicas para famílias carentes cadastradas e em marmitas para pessoas em situação de rua).\nTampinhas de garrafa pet\, lacres de latinhas de alumínio e cartelas de medicamentos usadas (serão utilizados para campanhas de arrecadação de cadeiras de rodas).\nRoupas e agasalhos em bom estado de conservação (serão utilizados para a Campanha do Agasalho).\nDOAÇÕES EM DINHEIRO PODEM SER FEITAS PELO PIX: CNPJ 23828397000100 – INSTITUTO CULTURAL CONFRARIA DOS PRETOS VELHOS DE UMBANDA.\n\nMuito obrigado e Oxalá abençoe!
URL:https://confrariadospretosvelhosdeumbanda.org/evento/sessao-de-caridade-boiadeiros-10/
LOCATION:TUPJAET – Tenda de Umbanda Pai Joaquim D’Angola e Exú Tiriri / Limeira\, SP\, Rua Evaristo Jacon\, 424\, Limeira\, SP\, 13481-583\, Brasil
CATEGORIES:Sessão de Caridade
ORGANIZER;CN="Mae Zilda e Pai Evandro":MAILTO:tupjaet@hotmail.com
END:VEVENT
BEGIN:VEVENT
DTSTART;TZID=America/Sao_Paulo:20250326T200000
DTEND;TZID=America/Sao_Paulo:20250326T220000
DTSTAMP:20260424T162517
CREATED:20250301T033622Z
LAST-MODIFIED:20250301T033622Z
UID:9899-1743019200-1743026400@confrariadospretosvelhosdeumbanda.org
SUMMARY:SESSÃO DE CARIDADE – EXUS
DESCRIPTION:ANTES DE VISITAR NOSSA CASA CONHEÇA NOSSAS DIRETRIZES GERAIS: \nAcesse: https://confrariadospretosvelhosdeumbanda.org/diretrizes-gerais/ \nMaiores informações: (19) 99655-6009 (WhatsApp) \nACEITAMOS DOAÇÕES PARA NOSSOS TRABALHOS SOCIAIS: \n\nAlimentos não-perecíveis (serão utilizados em cestas básicas para famílias carentes cadastradas e em marmitas para pessoas em situação de rua).\nTampinhas de garrafa pet\, lacres de latinhas de alumínio e cartelas de medicamentos usadas (serão utilizados para campanhas de arrecadação de cadeiras de rodas).\nRoupas e agasalhos em bom estado de conservação (serão utilizados para a Campanha do Agasalho).\nDOAÇÕES EM DINHEIRO PODEM SER FEITAS PELO PIX: CNPJ 23828397000100 – INSTITUTO CULTURAL CONFRARIA DOS PRETOS VELHOS DE UMBANDA.\n\nMuito obrigado e Oxalá abençoe!
URL:https://confrariadospretosvelhosdeumbanda.org/evento/sessao-de-caridade-exus-18/
LOCATION:TUA – Tenda de Umbanda Acolhimento / Limeira\, SP\, R. Dr. Wiliam Silva\, 540\, Limeira\, SP\, 13481-013\, Brasil
CATEGORIES:Sessão de Caridade
ORGANIZER;CN="Mae Zilda e Pai Evandro":MAILTO:tupjaet@hotmail.com
END:VEVENT
BEGIN:VEVENT
DTSTART;TZID=America/Sao_Paulo:20250329T180000
DTEND;TZID=America/Sao_Paulo:20250329T200000
DTSTAMP:20260424T162517
CREATED:20250301T033700Z
LAST-MODIFIED:20250301T033700Z
UID:9901-1743271200-1743278400@confrariadospretosvelhosdeumbanda.org
SUMMARY:SESSÃO DE CARIDADE – EXUS
DESCRIPTION:ANTES DE VISITAR NOSSA CASA CONHEÇA NOSSAS DIRETRIZES GERAIS: \nAcesse: https://confrariadospretosvelhosdeumbanda.org/diretrizes-gerais/ \nMaiores informações: (19) 99655-6009 (WhatsApp) \nACEITAMOS DOAÇÕES PARA NOSSOS TRABALHOS SOCIAIS: \n\nAlimentos não-perecíveis (serão utilizados em cestas básicas para famílias carentes cadastradas e em marmitas para pessoas em situação de rua).\nTampinhas de garrafa pet\, lacres de latinhas de alumínio e cartelas de medicamentos usadas (serão utilizados para campanhas de arrecadação de cadeiras de rodas).\nRoupas e agasalhos em bom estado de conservação (serão utilizados para a Campanha do Agasalho).\nDOAÇÕES EM DINHEIRO PODEM SER FEITAS PELO PIX: CNPJ 23828397000100 – INSTITUTO CULTURAL CONFRARIA DOS PRETOS VELHOS DE UMBANDA.\n\nMuito obrigado e Oxalá abençoe!
URL:https://confrariadospretosvelhosdeumbanda.org/evento/sessao-de-caridade-exus-19/
LOCATION:TUPJAET – Tenda de Umbanda Pai Joaquim D’Angola e Exú Tiriri / Limeira\, SP\, Rua Evaristo Jacon\, 424\, Limeira\, SP\, 13481-583\, Brasil
CATEGORIES:Sessão de Caridade
ORGANIZER;CN="Mae Zilda e Pai Evandro":MAILTO:tupjaet@hotmail.com
END:VEVENT
END:VCALENDAR