BEGIN:VCALENDAR
VERSION:2.0
PRODID:-//Confraria dos Pretos Velhos de Umbanda - ECPv6.15.20//NONSGML v1.0//EN
CALSCALE:GREGORIAN
METHOD:PUBLISH
X-WR-CALNAME:Confraria dos Pretos Velhos de Umbanda
X-ORIGINAL-URL:https://confrariadospretosvelhosdeumbanda.org
X-WR-CALDESC:Eventos para Confraria dos Pretos Velhos de Umbanda
REFRESH-INTERVAL;VALUE=DURATION:PT1H
X-Robots-Tag:noindex
X-PUBLISHED-TTL:PT1H
BEGIN:VTIMEZONE
TZID:America/Sao_Paulo
BEGIN:STANDARD
TZOFFSETFROM:-0300
TZOFFSETTO:-0300
TZNAME:-03
DTSTART:20240101T000000
END:STANDARD
END:VTIMEZONE
BEGIN:VEVENT
DTSTART;TZID=America/Sao_Paulo:20250402T200000
DTEND;TZID=America/Sao_Paulo:20250402T220000
DTSTAMP:20260424T071238
CREATED:20250401T014738Z
LAST-MODIFIED:20250401T014738Z
UID:10071-1743624000-1743631200@confrariadospretosvelhosdeumbanda.org
SUMMARY:SESSÃO DE CARIDADE – PRETOS VELHOS
DESCRIPTION:ANTES DE VISITAR NOSSA CASA CONHEÇA NOSSAS DIRETRIZES GERAIS: \nAcesse: https://confrariadospretosvelhosdeumbanda.org/diretrizes-gerais/ \nMaiores informações: (19) 99655-6009 (WhatsApp) \nACEITAMOS DOAÇÕES PARA NOSSOS TRABALHOS SOCIAIS: \n\nAlimentos não-perecíveis (serão utilizados em cestas básicas para famílias carentes cadastradas e em marmitas para pessoas em situação de rua).\nTampinhas de garrafa pet\, lacres de latinhas de alumínio e cartelas de medicamentos usadas (serão utilizados para campanhas de arrecadação de cadeiras de rodas).\nRoupas e agasalhos em bom estado de conservação (serão utilizados para a Campanha do Agasalho).\nDOAÇÕES EM DINHEIRO PODEM SER FEITAS PELO PIX: CNPJ 23828397000100 – INSTITUTO CULTURAL CONFRARIA DOS PRETOS VELHOS DE UMBANDA.\n\nMuito obrigado e Oxalá abençoe!
URL:https://confrariadospretosvelhosdeumbanda.org/evento/sessao-de-caridade-pretos-velhos-13/
LOCATION:TUA – Tenda de Umbanda Acolhimento / Limeira\, SP\, R. Dr. Wiliam Silva\, 540\, Limeira\, SP\, 13481-013\, Brasil
CATEGORIES:Sessão de Caridade
ORGANIZER;CN="Mae Zilda e Pai Evandro":MAILTO:tupjaet@hotmail.com
END:VEVENT
BEGIN:VEVENT
DTSTART;TZID=America/Sao_Paulo:20250403T200000
DTEND;TZID=America/Sao_Paulo:20250403T220000
DTSTAMP:20260424T071238
CREATED:20250401T015111Z
LAST-MODIFIED:20250401T015111Z
UID:10075-1743710400-1743717600@confrariadospretosvelhosdeumbanda.org
SUMMARY:CURSO DE DOUTRINA E DESENVOLVIMENTO MEDIÚNICO COM PAI EVANDRO
DESCRIPTION:ANTES DE VISITAR NOSSA CASA CONHEÇA NOSSAS DIRETRIZES GERAIS: \nAcesse: https://confrariadospretosvelhosdeumbanda.org/diretrizes-gerais/ \nMaiores informações: (19) 99655-6009 (WhatsApp) \nACEITAMOS DOAÇÕES PARA NOSSOS TRABALHOS SOCIAIS: \n\nAlimentos não-perecíveis (serão utilizados em cestas básicas para famílias carentes cadastradas e em marmitas para pessoas em situação de rua).\nTampinhas de garrafa pet\, lacres de latinhas de alumínio e cartelas de medicamentos usadas (serão utilizados para campanhas de arrecadação de cadeiras de rodas).\nRoupas e agasalhos em bom estado de conservação (serão utilizados para a Campanha do Agasalho).\nDOAÇÕES EM DINHEIRO PODEM SER FEITAS PELO PIX: CNPJ 23828397000100 – INSTITUTO CULTURAL CONFRARIA DOS PRETOS VELHOS DE UMBANDA.\n\nMuito obrigado e Oxalá abençoe!
URL:https://confrariadospretosvelhosdeumbanda.org/evento/curso-de-doutrina-e-desenvolvimento-mediunico-com-pai-evandro-2/
LOCATION:TUA – Tenda de Umbanda Acolhimento / Limeira\, SP\, R. Dr. Wiliam Silva\, 540\, Limeira\, SP\, 13481-013\, Brasil
CATEGORIES:Cursos
ORGANIZER;CN="Mae Zilda e Pai Evandro":MAILTO:tupjaet@hotmail.com
END:VEVENT
BEGIN:VEVENT
DTSTART;TZID=America/Sao_Paulo:20250405T180000
DTEND;TZID=America/Sao_Paulo:20250405T200000
DTSTAMP:20260424T071238
CREATED:20250401T015010Z
LAST-MODIFIED:20250401T015010Z
UID:10073-1743876000-1743883200@confrariadospretosvelhosdeumbanda.org
SUMMARY:SESSÃO DE CARIDADE – BAIANOS
DESCRIPTION:ANTES DE VISITAR NOSSA CASA CONHEÇA NOSSAS DIRETRIZES GERAIS: \nAcesse: https://confrariadospretosvelhosdeumbanda.org/diretrizes-gerais/ \nMaiores informações: (19) 99655-6009 (WhatsApp) \nACEITAMOS DOAÇÕES PARA NOSSOS TRABALHOS SOCIAIS: \n\nAlimentos não-perecíveis (serão utilizados em cestas básicas para famílias carentes cadastradas e em marmitas para pessoas em situação de rua).\nTampinhas de garrafa pet\, lacres de latinhas de alumínio e cartelas de medicamentos usadas (serão utilizados para campanhas de arrecadação de cadeiras de rodas).\nRoupas e agasalhos em bom estado de conservação (serão utilizados para a Campanha do Agasalho).\nDOAÇÕES EM DINHEIRO PODEM SER FEITAS PELO PIX: CNPJ 23828397000100 – INSTITUTO CULTURAL CONFRARIA DOS PRETOS VELHOS DE UMBANDA.\n\nMuito obrigado e Oxalá abençoe!
URL:https://confrariadospretosvelhosdeumbanda.org/evento/sessao-de-caridade-baianos-13/
LOCATION:TUPJAET – Tenda de Umbanda Pai Joaquim D’Angola e Exú Tiriri / Limeira\, SP\, Rua Evaristo Jacon\, 424\, Limeira\, SP\, 13481-583\, Brasil
CATEGORIES:Sessão de Caridade
ORGANIZER;CN="Mae Zilda e Pai Evandro":MAILTO:tupjaet@hotmail.com
END:VEVENT
BEGIN:VEVENT
DTSTART;TZID=America/Sao_Paulo:20250409T200000
DTEND;TZID=America/Sao_Paulo:20250409T220000
DTSTAMP:20260424T071238
CREATED:20250401T015307Z
LAST-MODIFIED:20250401T015307Z
UID:10079-1744228800-1744236000@confrariadospretosvelhosdeumbanda.org
SUMMARY:SESSÃO DE CARIDADE – CABOCLOS
DESCRIPTION:ANTES DE VISITAR NOSSA CASA CONHEÇA NOSSAS DIRETRIZES GERAIS: \nAcesse: https://confrariadospretosvelhosdeumbanda.org/diretrizes-gerais/ \nMaiores informações: (19) 99655-6009 (WhatsApp) \nACEITAMOS DOAÇÕES PARA NOSSOS TRABALHOS SOCIAIS: \n\nAlimentos não-perecíveis (serão utilizados em cestas básicas para famílias carentes cadastradas e em marmitas para pessoas em situação de rua).\nTampinhas de garrafa pet\, lacres de latinhas de alumínio e cartelas de medicamentos usadas (serão utilizados para campanhas de arrecadação de cadeiras de rodas).\nRoupas e agasalhos em bom estado de conservação (serão utilizados para a Campanha do Agasalho).\nDOAÇÕES EM DINHEIRO PODEM SER FEITAS PELO PIX: CNPJ 23828397000100 – INSTITUTO CULTURAL CONFRARIA DOS PRETOS VELHOS DE UMBANDA.\n\nMuito obrigado e Oxalá abençoe!
URL:https://confrariadospretosvelhosdeumbanda.org/evento/sessao-de-caridade-caboclos-14/
LOCATION:TUA – Tenda de Umbanda Acolhimento / Limeira\, SP\, R. Dr. Wiliam Silva\, 540\, Limeira\, SP\, 13481-013\, Brasil
CATEGORIES:Sessão de Caridade
ORGANIZER;CN="Mae Zilda e Pai Evandro":MAILTO:tupjaet@hotmail.com
END:VEVENT
BEGIN:VEVENT
DTSTART;TZID=America/Sao_Paulo:20250410T200000
DTEND;TZID=America/Sao_Paulo:20250410T220000
DTSTAMP:20260424T071238
CREATED:20250401T015219Z
LAST-MODIFIED:20250401T015219Z
UID:10077-1744315200-1744322400@confrariadospretosvelhosdeumbanda.org
SUMMARY:ESTUDO DO EVANGELHO COM SR. ODILON
DESCRIPTION:ANTES DE VISITAR NOSSA CASA CONHEÇA NOSSAS DIRETRIZES GERAIS: \nAcesse: https://confrariadospretosvelhosdeumbanda.org/diretrizes-gerais/ \nMaiores informações: (19) 99655-6009 (WhatsApp) \nACEITAMOS DOAÇÕES PARA NOSSOS TRABALHOS SOCIAIS: \n\nAlimentos não-perecíveis (serão utilizados em cestas básicas para famílias carentes cadastradas e em marmitas para pessoas em situação de rua).\nTampinhas de garrafa pet\, lacres de latinhas de alumínio e cartelas de medicamentos usadas (serão utilizados para campanhas de arrecadação de cadeiras de rodas).\nRoupas e agasalhos em bom estado de conservação (serão utilizados para a Campanha do Agasalho).\nDOAÇÕES EM DINHEIRO PODEM SER FEITAS PELO PIX: CNPJ 23828397000100 – INSTITUTO CULTURAL CONFRARIA DOS PRETOS VELHOS DE UMBANDA.\n\nMuito obrigado e Oxalá abençoe!
URL:https://confrariadospretosvelhosdeumbanda.org/evento/estudo-do-evangelho-com-sr-odilon-7/
LOCATION:TUPJAET – Tenda de Umbanda Pai Joaquim D’Angola e Exú Tiriri / Limeira\, SP\, Rua Evaristo Jacon\, 424\, Limeira\, SP\, 13481-583\, Brasil
CATEGORIES:Cursos
ORGANIZER;CN="Mae Zilda e Pai Evandro":MAILTO:tupjaet@hotmail.com
END:VEVENT
BEGIN:VEVENT
DTSTART;TZID=America/Sao_Paulo:20250412T150000
DTEND;TZID=America/Sao_Paulo:20250412T170000
DTSTAMP:20260424T071238
CREATED:20250401T014550Z
LAST-MODIFIED:20250401T014616Z
UID:10067-1744470000-1744477200@confrariadospretosvelhosdeumbanda.org
SUMMARY:Retirada das Pizzas Beneficentes - Compras até 06 de Abril
DESCRIPTION:VENDA BENEFICENTE DE PIZZA \nVendas até dia 06 de Abril\nRetirada no dia 12 de Abril às 15h00 na TUPJAET \n>> R$ 50\,00 << cada pizza \nSABORES:\n– Americana\n– Calabresa\n– Portuguesa\n– Vegetariana\n– Frango com Requeijão\n– Muçarela\n– Marguerita\n– 3 Queijos\n– Queijo com Goiabada\n– Brigadeiro \nPara mais informações\, entrem em contato no WhatsApp: (19) 99655-6009
URL:https://confrariadospretosvelhosdeumbanda.org/evento/retirada-das-pizzas-beneficentes-compras-ate-06-de-abril/
LOCATION:TUA – Tenda de Umbanda Acolhimento / Limeira\, SP\, R. Dr. Wiliam Silva\, 540\, Limeira\, SP\, 13481-013\, Brasil
CATEGORIES:Eventos
ATTACH;FMTTYPE=image/jpeg:https://confrariadospretosvelhosdeumbanda.org/wp-content/uploads/2025/03/WhatsApp-Image-2025-03-27-at-16.08.27.jpeg
ORGANIZER;CN="Mae Zilda e Pai Evandro":MAILTO:tupjaet@hotmail.com
END:VEVENT
BEGIN:VEVENT
DTSTART;TZID=America/Sao_Paulo:20250412T180000
DTEND;TZID=America/Sao_Paulo:20250412T200000
DTSTAMP:20260424T071238
CREATED:20250401T015408Z
LAST-MODIFIED:20250401T015408Z
UID:10081-1744480800-1744488000@confrariadospretosvelhosdeumbanda.org
SUMMARY:SESSÃO DE CARIDADE – PRETOS VELHOS
DESCRIPTION:ANTES DE VISITAR NOSSA CASA CONHEÇA NOSSAS DIRETRIZES GERAIS: \nAcesse: https://confrariadospretosvelhosdeumbanda.org/diretrizes-gerais/ \nMaiores informações: (19) 99655-6009 (WhatsApp) \nACEITAMOS DOAÇÕES PARA NOSSOS TRABALHOS SOCIAIS: \n\nAlimentos não-perecíveis (serão utilizados em cestas básicas para famílias carentes cadastradas e em marmitas para pessoas em situação de rua).\nTampinhas de garrafa pet\, lacres de latinhas de alumínio e cartelas de medicamentos usadas (serão utilizados para campanhas de arrecadação de cadeiras de rodas).\nRoupas e agasalhos em bom estado de conservação (serão utilizados para a Campanha do Agasalho).\nDOAÇÕES EM DINHEIRO PODEM SER FEITAS PELO PIX: CNPJ 23828397000100 – INSTITUTO CULTURAL CONFRARIA DOS PRETOS VELHOS DE UMBANDA.\n\nMuito obrigado e Oxalá abençoe!
URL:https://confrariadospretosvelhosdeumbanda.org/evento/sessao-de-caridade-pretos-velhos-14/
LOCATION:TUPJAET – Tenda de Umbanda Pai Joaquim D’Angola e Exú Tiriri / Limeira\, SP\, Rua Evaristo Jacon\, 424\, Limeira\, SP\, 13481-583\, Brasil
CATEGORIES:Sessão de Caridade
ORGANIZER;CN="Mae Zilda e Pai Evandro":MAILTO:tupjaet@hotmail.com
END:VEVENT
BEGIN:VEVENT
DTSTART;TZID=America/Sao_Paulo:20250416T200000
DTEND;TZID=America/Sao_Paulo:20250416T220000
DTSTAMP:20260424T071238
CREATED:20250401T015520Z
LAST-MODIFIED:20250401T015520Z
UID:10083-1744833600-1744840800@confrariadospretosvelhosdeumbanda.org
SUMMARY:SESSÃO DE CARIDADE – BOIADEIROS
DESCRIPTION:ANTES DE VISITAR NOSSA CASA CONHEÇA NOSSAS DIRETRIZES GERAIS: \nAcesse: https://confrariadospretosvelhosdeumbanda.org/diretrizes-gerais/ \nMaiores informações: (19) 99655-6009 (WhatsApp) \nACEITAMOS DOAÇÕES PARA NOSSOS TRABALHOS SOCIAIS: \n\nAlimentos não-perecíveis (serão utilizados em cestas básicas para famílias carentes cadastradas e em marmitas para pessoas em situação de rua).\nTampinhas de garrafa pet\, lacres de latinhas de alumínio e cartelas de medicamentos usadas (serão utilizados para campanhas de arrecadação de cadeiras de rodas).\nRoupas e agasalhos em bom estado de conservação (serão utilizados para a Campanha do Agasalho).\nDOAÇÕES EM DINHEIRO PODEM SER FEITAS PELO PIX: CNPJ 23828397000100 – INSTITUTO CULTURAL CONFRARIA DOS PRETOS VELHOS DE UMBANDA.\n\nMuito obrigado e Oxalá abençoe!
URL:https://confrariadospretosvelhosdeumbanda.org/evento/sessao-de-caridade-boiadeiros-11/
LOCATION:TUA – Tenda de Umbanda Acolhimento / Limeira\, SP\, R. Dr. Wiliam Silva\, 540\, Limeira\, SP\, 13481-013\, Brasil
CATEGORIES:Sessão de Caridade
ORGANIZER;CN="Mae Zilda e Pai Evandro":MAILTO:tupjaet@hotmail.com
END:VEVENT
BEGIN:VEVENT
DTSTART;TZID=America/Sao_Paulo:20250417T000000
DTEND;TZID=America/Sao_Paulo:20250417T235959
DTSTAMP:20260424T071238
CREATED:20250401T015603Z
LAST-MODIFIED:20250401T015603Z
UID:10085-1744848000-1744934399@confrariadospretosvelhosdeumbanda.org
SUMMARY:NÃO HAVERÁ CURSO
DESCRIPTION:ANTES DE VISITAR NOSSA CASA CONHEÇA NOSSAS DIRETRIZES GERAIS: \nAcesse: https://confrariadospretosvelhosdeumbanda.org/diretrizes-gerais/ \nMaiores informações: (19) 99655-6009 (WhatsApp) \nACEITAMOS DOAÇÕES PARA NOSSOS TRABALHOS SOCIAIS: \n\nAlimentos não-perecíveis (serão utilizados em cestas básicas para famílias carentes cadastradas e em marmitas para pessoas em situação de rua).\nTampinhas de garrafa pet\, lacres de latinhas de alumínio e cartelas de medicamentos usadas (serão utilizados para campanhas de arrecadação de cadeiras de rodas).\nRoupas e agasalhos em bom estado de conservação (serão utilizados para a Campanha do Agasalho).\nDOAÇÕES EM DINHEIRO PODEM SER FEITAS PELO PIX: CNPJ 23828397000100 – INSTITUTO CULTURAL CONFRARIA DOS PRETOS VELHOS DE UMBANDA.\n\nMuito obrigado e Oxalá abençoe!
URL:https://confrariadospretosvelhosdeumbanda.org/evento/nao-havera-curso-3/
LOCATION:SP
CATEGORIES:Sem Atividades
END:VEVENT
BEGIN:VEVENT
DTSTART;TZID=America/Sao_Paulo:20250419T000000
DTEND;TZID=America/Sao_Paulo:20250419T235959
DTSTAMP:20260424T071238
CREATED:20250401T015856Z
LAST-MODIFIED:20250401T015856Z
UID:10087-1745020800-1745107199@confrariadospretosvelhosdeumbanda.org
SUMMARY:NÃO HAVERÁ ATIVIDADE
DESCRIPTION:ANTES DE VISITAR NOSSA CASA CONHEÇA NOSSAS DIRETRIZES GERAIS: \nAcesse: https://confrariadospretosvelhosdeumbanda.org/diretrizes-gerais/ \nMaiores informações: (19) 99655-6009 (WhatsApp) \nACEITAMOS DOAÇÕES PARA NOSSOS TRABALHOS SOCIAIS: \n\nAlimentos não-perecíveis (serão utilizados em cestas básicas para famílias carentes cadastradas e em marmitas para pessoas em situação de rua).\nTampinhas de garrafa pet\, lacres de latinhas de alumínio e cartelas de medicamentos usadas (serão utilizados para campanhas de arrecadação de cadeiras de rodas).\nRoupas e agasalhos em bom estado de conservação (serão utilizados para a Campanha do Agasalho).\nDOAÇÕES EM DINHEIRO PODEM SER FEITAS PELO PIX: CNPJ 23828397000100 – INSTITUTO CULTURAL CONFRARIA DOS PRETOS VELHOS DE UMBANDA.\n\nMuito obrigado e Oxalá abençoe!
URL:https://confrariadospretosvelhosdeumbanda.org/evento/nao-havera-atividade-14/
LOCATION:SP
CATEGORIES:Sem Atividades
END:VEVENT
BEGIN:VEVENT
DTSTART;TZID=America/Sao_Paulo:20250424T200000
DTEND;TZID=America/Sao_Paulo:20250424T220000
DTSTAMP:20260424T071238
CREATED:20250401T020039Z
LAST-MODIFIED:20250401T020039Z
UID:10091-1745524800-1745532000@confrariadospretosvelhosdeumbanda.org
SUMMARY:AULA DE MEDITAÇÃO E EQUILÍBRIO ESPIRITUAL COM SRA. MARIA ALICE
DESCRIPTION:ANTES DE VISITAR NOSSA CASA CONHEÇA NOSSAS DIRETRIZES GERAIS: \nAcesse: https://confrariadospretosvelhosdeumbanda.org/diretrizes-gerais/ \nMaiores informações: (19) 99655-6009 (WhatsApp) \nACEITAMOS DOAÇÕES PARA NOSSOS TRABALHOS SOCIAIS: \n\nAlimentos não-perecíveis (serão utilizados em cestas básicas para famílias carentes cadastradas e em marmitas para pessoas em situação de rua).\nTampinhas de garrafa pet\, lacres de latinhas de alumínio e cartelas de medicamentos usadas (serão utilizados para campanhas de arrecadação de cadeiras de rodas).\nRoupas e agasalhos em bom estado de conservação (serão utilizados para a Campanha do Agasalho).\nDOAÇÕES EM DINHEIRO PODEM SER FEITAS PELO PIX: CNPJ 23828397000100 – INSTITUTO CULTURAL CONFRARIA DOS PRETOS VELHOS DE UMBANDA.\n\nMuito obrigado e Oxalá abençoe!
URL:https://confrariadospretosvelhosdeumbanda.org/evento/aula-de-meditacao-e-equilibrio-espiritual-com-sra-maria-alice-7/
LOCATION:TUA – Tenda de Umbanda Acolhimento / Limeira\, SP\, R. Dr. Wiliam Silva\, 540\, Limeira\, SP\, 13481-013\, Brasil
CATEGORIES:Cursos
ORGANIZER;CN="Mae Zilda e Pai Evandro":MAILTO:tupjaet@hotmail.com
END:VEVENT
BEGIN:VEVENT
DTSTART;TZID=America/Sao_Paulo:20250426T180000
DTEND;TZID=America/Sao_Paulo:20250426T200000
DTSTAMP:20260424T071238
CREATED:20250401T020232Z
LAST-MODIFIED:20250423T234935Z
UID:10093-1745690400-1745697600@confrariadospretosvelhosdeumbanda.org
SUMMARY:HOMENAGEM AO ORIXÁ OGUM + SESSÃO DE CARIDADE – CABOCLOS
DESCRIPTION:ANTES DE VISITAR NOSSA CASA CONHEÇA NOSSAS DIRETRIZES GERAIS: \nAcesse: https://confrariadospretosvelhosdeumbanda.org/diretrizes-gerais/ \nMaiores informações: (19) 99655-6009 (WhatsApp) \nACEITAMOS DOAÇÕES PARA NOSSOS TRABALHOS SOCIAIS: \n\nAlimentos não-perecíveis (serão utilizados em cestas básicas para famílias carentes cadastradas e em marmitas para pessoas em situação de rua).\nTampinhas de garrafa pet\, lacres de latinhas de alumínio e cartelas de medicamentos usadas (serão utilizados para campanhas de arrecadação de cadeiras de rodas).\nRoupas e agasalhos em bom estado de conservação (serão utilizados para a Campanha do Agasalho).\nDOAÇÕES EM DINHEIRO PODEM SER FEITAS PELO PIX: CNPJ 23828397000100 – INSTITUTO CULTURAL CONFRARIA DOS PRETOS VELHOS DE UMBANDA.\n\nMuito obrigado e Oxalá abençoe!
URL:https://confrariadospretosvelhosdeumbanda.org/evento/homenagem-ao-orixa-ogum-sessao-de-caridade-caboclos-2/
LOCATION:TUA – Tenda de Umbanda Acolhimento / Limeira\, SP\, R. Dr. Wiliam Silva\, 540\, Limeira\, SP\, 13481-013\, Brasil
CATEGORIES:Homenagens,Sessão de Caridade
ATTACH;FMTTYPE=image/png:https://confrariadospretosvelhosdeumbanda.org/wp-content/uploads/2025/03/BANNER-OGUM-2025.png
ORGANIZER;CN="Mae Zilda e Pai Evandro":MAILTO:tupjaet@hotmail.com
END:VEVENT
BEGIN:VEVENT
DTSTART;TZID=America/Sao_Paulo:20250430T200000
DTEND;TZID=America/Sao_Paulo:20250430T220000
DTSTAMP:20260424T071238
CREATED:20250401T020343Z
LAST-MODIFIED:20250401T020343Z
UID:10095-1746043200-1746050400@confrariadospretosvelhosdeumbanda.org
SUMMARY:SESSÃO DE CARIDADE – EXUS
DESCRIPTION:ANTES DE VISITAR NOSSA CASA CONHEÇA NOSSAS DIRETRIZES GERAIS: \nAcesse: https://confrariadospretosvelhosdeumbanda.org/diretrizes-gerais/ \nMaiores informações: (19) 99655-6009 (WhatsApp) \nACEITAMOS DOAÇÕES PARA NOSSOS TRABALHOS SOCIAIS: \n\nAlimentos não-perecíveis (serão utilizados em cestas básicas para famílias carentes cadastradas e em marmitas para pessoas em situação de rua).\nTampinhas de garrafa pet\, lacres de latinhas de alumínio e cartelas de medicamentos usadas (serão utilizados para campanhas de arrecadação de cadeiras de rodas).\nRoupas e agasalhos em bom estado de conservação (serão utilizados para a Campanha do Agasalho).\nDOAÇÕES EM DINHEIRO PODEM SER FEITAS PELO PIX: CNPJ 23828397000100 – INSTITUTO CULTURAL CONFRARIA DOS PRETOS VELHOS DE UMBANDA.\n\nMuito obrigado e Oxalá abençoe!
URL:https://confrariadospretosvelhosdeumbanda.org/evento/sessao-de-caridade-exus-20/
LOCATION:TUA – Tenda de Umbanda Acolhimento / Limeira\, SP\, R. Dr. Wiliam Silva\, 540\, Limeira\, SP\, 13481-013\, Brasil
CATEGORIES:Sessão de Caridade
ORGANIZER;CN="Mae Zilda e Pai Evandro":MAILTO:tupjaet@hotmail.com
END:VEVENT
END:VCALENDAR