BEGIN:VCALENDAR
VERSION:2.0
PRODID:-//Confraria dos Pretos Velhos de Umbanda - ECPv6.15.20//NONSGML v1.0//EN
CALSCALE:GREGORIAN
METHOD:PUBLISH
X-ORIGINAL-URL:https://confrariadospretosvelhosdeumbanda.org
X-WR-CALDESC:Eventos para Confraria dos Pretos Velhos de Umbanda
REFRESH-INTERVAL;VALUE=DURATION:PT1H
X-Robots-Tag:noindex
X-PUBLISHED-TTL:PT1H
BEGIN:VTIMEZONE
TZID:America/Sao_Paulo
BEGIN:STANDARD
TZOFFSETFROM:-0300
TZOFFSETTO:-0300
TZNAME:-03
DTSTART:20240101T000000
END:STANDARD
END:VTIMEZONE
BEGIN:VEVENT
DTSTART;TZID=America/Sao_Paulo:20251101T180000
DTEND;TZID=America/Sao_Paulo:20251101T200000
DTSTAMP:20260423T191711
CREATED:20250825T023505Z
LAST-MODIFIED:20251028T014639Z
UID:11057-1762020000-1762027200@confrariadospretosvelhosdeumbanda.org
SUMMARY:SESSÃO DE CARIDADE
DESCRIPTION:ANTES DE VISITAR NOSSA CASA CONHEÇA NOSSAS DIRETRIZES GERAIS: \nAcesse: https://confrariadospretosvelhosdeumbanda.org/diretrizes-gerais/ \nMaiores informações: (19) 99655-6009 (WhatsApp) \nACEITAMOS DOAÇÕES PARA NOSSOS TRABALHOS SOCIAIS: \n\nAlimentos não-perecíveis (serão utilizados em cestas básicas para famílias carentes cadastradas e em marmitas para pessoas em situação de rua).\nTampinhas de garrafa pet e lacres de latinhas de alumínio (serão utilizados para campanhas de arrecadação de cadeiras de rodas\, ração e cirurgias para o Projeto CastrAÇÃO e toalhas para cachorros em abrigos).\nRoupas e agasalhos em bom estado de conservação (serão utilizados para a Campanha do Agasalho).\nDOAÇÕES EM DINHEIRO PODEM SER FEITAS PELO PIX: CNPJ 23828397000100 – INSTITUTO CULTURAL CONFRARIA DOS PRETOS VELHOS DE UMBANDA.\n\nMuito obrigado e Oxalá abençoe!
URL:https://confrariadospretosvelhosdeumbanda.org/evento/sessao-de-caridade-11/
LOCATION:TUPJAET – Tenda de Umbanda Pai Joaquim D’Angola e Exú Tiriri / Limeira\, SP\, Rua Evaristo Jacon\, 424\, Limeira\, SP\, 13481-583\, Brasil
CATEGORIES:Sessão de Caridade
ORGANIZER;CN="Mae Zilda e Pai Evandro":MAILTO:tupjaet@hotmail.com
END:VEVENT
BEGIN:VEVENT
DTSTART;TZID=America/Sao_Paulo:20251102T113000
DTEND;TZID=America/Sao_Paulo:20251102T170000
DTSTAMP:20260423T191711
CREATED:20251009T232344Z
LAST-MODIFIED:20251009T232517Z
UID:11373-1762083000-1762102800@confrariadospretosvelhosdeumbanda.org
SUMMARY:PAELHA BENEFICENTE 2025
DESCRIPTION:Retirada: 11h30 até 14h00\nMarmita G \nConsumo no Local: 11h30 até 17h00\ncom música sertaneja ao vivo\nvenda de refrigerante\, suco e cerveja no local \nPIX (CNPJ): 23.828.397/0001-00 \nLOCAL:\nTenda de Umbanda Acolhimento\nR. Dr. Wiliam Silva\, 540 – Parque das Nações \nContato: (19) 99887-9609 (ZILDA)
URL:https://confrariadospretosvelhosdeumbanda.org/evento/paelha-beneficente-2025/
LOCATION:TUA – Tenda de Umbanda Acolhimento / Limeira\, SP\, R. Dr. Wiliam Silva\, 540\, Limeira\, SP\, 13481-013\, Brasil
CATEGORIES:Eventos
ATTACH;FMTTYPE=image/png:https://confrariadospretosvelhosdeumbanda.org/wp-content/uploads/2025/10/PAELLA-2025.png
END:VEVENT
BEGIN:VEVENT
DTSTART;TZID=America/Sao_Paulo:20251105T200000
DTEND;TZID=America/Sao_Paulo:20251105T220000
DTSTAMP:20260423T191711
CREATED:20250825T023555Z
LAST-MODIFIED:20251028T014716Z
UID:11059-1762372800-1762380000@confrariadospretosvelhosdeumbanda.org
SUMMARY:SESSÃO DE CARIDADE
DESCRIPTION:ANTES DE VISITAR NOSSA CASA CONHEÇA NOSSAS DIRETRIZES GERAIS: \nAcesse: https://confrariadospretosvelhosdeumbanda.org/diretrizes-gerais/ \nMaiores informações: (19) 99655-6009 (WhatsApp) \nACEITAMOS DOAÇÕES PARA NOSSOS TRABALHOS SOCIAIS: \n\nAlimentos não-perecíveis (serão utilizados em cestas básicas para famílias carentes cadastradas e em marmitas para pessoas em situação de rua).\nTampinhas de garrafa pet e lacres de latinhas de alumínio (serão utilizados para campanhas de arrecadação de cadeiras de rodas\, ração e cirurgias para o Projeto CastrAÇÃO e toalhas para cachorros em abrigos).\nRoupas e agasalhos em bom estado de conservação (serão utilizados para a Campanha do Agasalho).\nDOAÇÕES EM DINHEIRO PODEM SER FEITAS PELO PIX: CNPJ 23828397000100 – INSTITUTO CULTURAL CONFRARIA DOS PRETOS VELHOS DE UMBANDA.\n\nMuito obrigado e Oxalá abençoe!
URL:https://confrariadospretosvelhosdeumbanda.org/evento/sessao-de-caridade-12/
LOCATION:TUA – Tenda de Umbanda Acolhimento / Limeira\, SP\, R. Dr. Wiliam Silva\, 540\, Limeira\, SP\, 13481-013\, Brasil
CATEGORIES:Sessão de Caridade
ORGANIZER;CN="Mae Zilda e Pai Evandro":MAILTO:tupjaet@hotmail.com
END:VEVENT
BEGIN:VEVENT
DTSTART;TZID=America/Sao_Paulo:20251106T200000
DTEND;TZID=America/Sao_Paulo:20251106T220000
DTSTAMP:20260423T191711
CREATED:20250825T023736Z
LAST-MODIFIED:20251028T014742Z
UID:11062-1762459200-1762466400@confrariadospretosvelhosdeumbanda.org
SUMMARY:CURSO DE DOUTRINA E DESENVOLVIMENTO MEDIÚNICO COM PAI EVANDRO (EXCLUSIVO PARA MÉDIUNS DA CASA)
DESCRIPTION:ANTES DE VISITAR NOSSA CASA CONHEÇA NOSSAS DIRETRIZES GERAIS: \nAcesse: https://confrariadospretosvelhosdeumbanda.org/diretrizes-gerais/ \nMaiores informações: (19) 99655-6009 (WhatsApp) \nACEITAMOS DOAÇÕES PARA NOSSOS TRABALHOS SOCIAIS: \n\nAlimentos não-perecíveis (serão utilizados em cestas básicas para famílias carentes cadastradas e em marmitas para pessoas em situação de rua).\nTampinhas de garrafa pet e lacres de latinhas de alumínio (serão utilizados para campanhas de arrecadação de cadeiras de rodas\, ração e cirurgias para o Projeto CastrAÇÃO e toalhas para cachorros em abrigos).\nRoupas e agasalhos em bom estado de conservação (serão utilizados para a Campanha do Agasalho).\nDOAÇÕES EM DINHEIRO PODEM SER FEITAS PELO PIX: CNPJ 23828397000100 – INSTITUTO CULTURAL CONFRARIA DOS PRETOS VELHOS DE UMBANDA.\n\nMuito obrigado e Oxalá abençoe!
URL:https://confrariadospretosvelhosdeumbanda.org/evento/curso-de-doutrina-e-desenvolvimento-mediunico-com-pai-evandro-exclusivo-para-mediuns-da-casa-3/
LOCATION:TUA – Tenda de Umbanda Acolhimento / Limeira\, SP\, R. Dr. Wiliam Silva\, 540\, Limeira\, SP\, 13481-013\, Brasil
CATEGORIES:Cursos
ORGANIZER;CN="Mae Zilda e Pai Evandro":MAILTO:tupjaet@hotmail.com
END:VEVENT
BEGIN:VEVENT
DTSTART;TZID=America/Sao_Paulo:20251108T000000
DTEND;TZID=America/Sao_Paulo:20251108T235959
DTSTAMP:20260423T191711
CREATED:20250825T023909Z
LAST-MODIFIED:20251028T014759Z
UID:11065-1762560000-1762646399@confrariadospretosvelhosdeumbanda.org
SUMMARY:NÃO HAVERÁ ATIVIDADES
DESCRIPTION:ANTES DE VISITAR NOSSA CASA CONHEÇA NOSSAS DIRETRIZES GERAIS: \nAcesse: https://confrariadospretosvelhosdeumbanda.org/diretrizes-gerais/ \nMaiores informações: (19) 99655-6009 (WhatsApp) \nACEITAMOS DOAÇÕES PARA NOSSOS TRABALHOS SOCIAIS: \n\nAlimentos não-perecíveis (serão utilizados em cestas básicas para famílias carentes cadastradas e em marmitas para pessoas em situação de rua).\nTampinhas de garrafa pet e lacres de latinhas de alumínio (serão utilizados para campanhas de arrecadação de cadeiras de rodas\, ração e cirurgias para o Projeto CastrAÇÃO e toalhas para cachorros em abrigos).\nRoupas e agasalhos em bom estado de conservação (serão utilizados para a Campanha do Agasalho).\nDOAÇÕES EM DINHEIRO PODEM SER FEITAS PELO PIX: CNPJ 23828397000100 – INSTITUTO CULTURAL CONFRARIA DOS PRETOS VELHOS DE UMBANDA.\n\nMuito obrigado e Oxalá abençoe!
URL:https://confrariadospretosvelhosdeumbanda.org/evento/nao-havera-atividades-22/
LOCATION:SP
CATEGORIES:Sem Atividades
END:VEVENT
BEGIN:VEVENT
DTSTART;TZID=America/Sao_Paulo:20251109T150000
DTEND;TZID=America/Sao_Paulo:20251109T170000
DTSTAMP:20260423T191711
CREATED:20250825T225525Z
LAST-MODIFIED:20251028T014817Z
UID:11094-1762700400-1762707600@confrariadospretosvelhosdeumbanda.org
SUMMARY:EXIBIÇÃO DO FILME GALDINO DO FILHO RENATO (ABERTO A TODO PÚBLICO)
DESCRIPTION:ANTES DE VISITAR NOSSA CASA CONHEÇA NOSSAS DIRETRIZES GERAIS: \nAcesse: https://confrariadospretosvelhosdeumbanda.org/diretrizes-gerais/ \nMaiores informações: (19) 99655-6009 (WhatsApp) \nACEITAMOS DOAÇÕES PARA NOSSOS TRABALHOS SOCIAIS: \n\nAlimentos não-perecíveis (serão utilizados em cestas básicas para famílias carentes cadastradas e em marmitas para pessoas em situação de rua).\nTampinhas de garrafa pet e lacres de latinhas de alumínio (serão utilizados para campanhas de arrecadação de cadeiras de rodas\, ração e cirurgias para o Projeto CastrAÇÃO e toalhas para cachorros em abrigos).\nRoupas e agasalhos em bom estado de conservação (serão utilizados para a Campanha do Agasalho).\nDOAÇÕES EM DINHEIRO PODEM SER FEITAS PELO PIX: CNPJ 23828397000100 – INSTITUTO CULTURAL CONFRARIA DOS PRETOS VELHOS DE UMBANDA.\n\nMuito obrigado e Oxalá abençoe!
URL:https://confrariadospretosvelhosdeumbanda.org/evento/exibicao-do-filme-galdino-do-filho-renato-aberto-a-todo-publico/
LOCATION:TUA – Tenda de Umbanda Acolhimento / Limeira\, SP\, R. Dr. Wiliam Silva\, 540\, Limeira\, SP\, 13481-013\, Brasil
CATEGORIES:Eventos
END:VEVENT
BEGIN:VEVENT
DTSTART;TZID=America/Sao_Paulo:20251112T200000
DTEND;TZID=America/Sao_Paulo:20251112T220000
DTSTAMP:20260423T191711
CREATED:20250825T024111Z
LAST-MODIFIED:20251028T014832Z
UID:11067-1762977600-1762984800@confrariadospretosvelhosdeumbanda.org
SUMMARY:SESSÃO DE CARIDADE
DESCRIPTION:ANTES DE VISITAR NOSSA CASA CONHEÇA NOSSAS DIRETRIZES GERAIS: \nAcesse: https://confrariadospretosvelhosdeumbanda.org/diretrizes-gerais/ \nMaiores informações: (19) 99655-6009 (WhatsApp) \nACEITAMOS DOAÇÕES PARA NOSSOS TRABALHOS SOCIAIS: \n\nAlimentos não-perecíveis (serão utilizados em cestas básicas para famílias carentes cadastradas e em marmitas para pessoas em situação de rua).\nTampinhas de garrafa pet e lacres de latinhas de alumínio (serão utilizados para campanhas de arrecadação de cadeiras de rodas\, ração e cirurgias para o Projeto CastrAÇÃO e toalhas para cachorros em abrigos).\nRoupas e agasalhos em bom estado de conservação (serão utilizados para a Campanha do Agasalho).\nDOAÇÕES EM DINHEIRO PODEM SER FEITAS PELO PIX: CNPJ 23828397000100 – INSTITUTO CULTURAL CONFRARIA DOS PRETOS VELHOS DE UMBANDA.\n\nMuito obrigado e Oxalá abençoe!
URL:https://confrariadospretosvelhosdeumbanda.org/evento/sessao-de-caridade-13/
LOCATION:TUA – Tenda de Umbanda Acolhimento / Limeira\, SP\, R. Dr. Wiliam Silva\, 540\, Limeira\, SP\, 13481-013\, Brasil
CATEGORIES:Sessão de Caridade
ORGANIZER;CN="Mae Zilda e Pai Evandro":MAILTO:tupjaet@hotmail.com
END:VEVENT
BEGIN:VEVENT
DTSTART;TZID=America/Sao_Paulo:20251113T200000
DTEND;TZID=America/Sao_Paulo:20251113T220000
DTSTAMP:20260423T191711
CREATED:20250825T024853Z
LAST-MODIFIED:20251028T014850Z
UID:11069-1763064000-1763071200@confrariadospretosvelhosdeumbanda.org
SUMMARY:ESTUDO DO EVANGELHO COM SR. ODILON (EXCLUSIVO PARA MÉDIUNS DA CASA)
DESCRIPTION:ANTES DE VISITAR NOSSA CASA CONHEÇA NOSSAS DIRETRIZES GERAIS: \nAcesse: https://confrariadospretosvelhosdeumbanda.org/diretrizes-gerais/ \nMaiores informações: (19) 99655-6009 (WhatsApp) \nACEITAMOS DOAÇÕES PARA NOSSOS TRABALHOS SOCIAIS: \n\nAlimentos não-perecíveis (serão utilizados em cestas básicas para famílias carentes cadastradas e em marmitas para pessoas em situação de rua).\nTampinhas de garrafa pet e lacres de latinhas de alumínio (serão utilizados para campanhas de arrecadação de cadeiras de rodas\, ração e cirurgias para o Projeto CastrAÇÃO e toalhas para cachorros em abrigos).\nRoupas e agasalhos em bom estado de conservação (serão utilizados para a Campanha do Agasalho).\nDOAÇÕES EM DINHEIRO PODEM SER FEITAS PELO PIX: CNPJ 23828397000100 – INSTITUTO CULTURAL CONFRARIA DOS PRETOS VELHOS DE UMBANDA.\n\nMuito obrigado e Oxalá abençoe!
URL:https://confrariadospretosvelhosdeumbanda.org/evento/estudo-do-evangelho-com-sr-odilon-exclusivo-para-mediuns-da-casa-4/
LOCATION:TUA – Tenda de Umbanda Acolhimento / Limeira\, SP\, R. Dr. Wiliam Silva\, 540\, Limeira\, SP\, 13481-013\, Brasil
CATEGORIES:Cursos
ORGANIZER;CN="Mae Zilda e Pai Evandro":MAILTO:tupjaet@hotmail.com
END:VEVENT
BEGIN:VEVENT
DTSTART;TZID=America/Sao_Paulo:20251115T000000
DTEND;TZID=America/Sao_Paulo:20251115T235959
DTSTAMP:20260423T191711
CREATED:20251006T003538Z
LAST-MODIFIED:20251028T014908Z
UID:11370-1763164800-1763251199@confrariadospretosvelhosdeumbanda.org
SUMMARY:VISITA A CASA DE PAI JOSÉ DA COSTA
DESCRIPTION:ANTES DE VISITAR NOSSA CASA CONHEÇA NOSSAS DIRETRIZES GERAIS: \nAcesse: https://confrariadospretosvelhosdeumbanda.org/diretrizes-gerais/ \nMaiores informações: (19) 99655-6009 (WhatsApp) \nACEITAMOS DOAÇÕES PARA NOSSOS TRABALHOS SOCIAIS: \n\nAlimentos não-perecíveis (serão utilizados em cestas básicas para famílias carentes cadastradas e em marmitas para pessoas em situação de rua).\nTampinhas de garrafa pet e lacres de latinhas de alumínio (serão utilizados para campanhas de arrecadação de cadeiras de rodas\, ração e cirurgias para o Projeto CastrAÇÃO e toalhas para cachorros em abrigos).\nRoupas e agasalhos em bom estado de conservação (serão utilizados para a Campanha do Agasalho).\nDOAÇÕES EM DINHEIRO PODEM SER FEITAS PELO PIX: CNPJ 23828397000100 – INSTITUTO CULTURAL CONFRARIA DOS PRETOS VELHOS DE UMBANDA.\n\nMuito obrigado e Oxalá abençoe!
URL:https://confrariadospretosvelhosdeumbanda.org/evento/visita-a-casa-de-pai-jose-da-costa/
LOCATION:SP
CATEGORIES:Homenagens,Sessão de Caridade
END:VEVENT
BEGIN:VEVENT
DTSTART;TZID=America/Sao_Paulo:20251119T200000
DTEND;TZID=America/Sao_Paulo:20251119T220000
DTSTAMP:20260423T191711
CREATED:20250825T025219Z
LAST-MODIFIED:20251028T014928Z
UID:11071-1763582400-1763589600@confrariadospretosvelhosdeumbanda.org
SUMMARY:ANIVERSÁRIO DE 117 ANOS DA UMBANDA E HOMENAGEM AOS CABOCLOS (SESSÃO DE CARIDADE - CABOCLOS)
DESCRIPTION:ANTES DE VISITAR NOSSA CASA CONHEÇA NOSSAS DIRETRIZES GERAIS: \nAcesse: https://confrariadospretosvelhosdeumbanda.org/diretrizes-gerais/ \nMaiores informações: (19) 99655-6009 (WhatsApp) \nACEITAMOS DOAÇÕES PARA NOSSOS TRABALHOS SOCIAIS: \n\nAlimentos não-perecíveis (serão utilizados em cestas básicas para famílias carentes cadastradas e em marmitas para pessoas em situação de rua).\nTampinhas de garrafa pet e lacres de latinhas de alumínio (serão utilizados para campanhas de arrecadação de cadeiras de rodas\, ração e cirurgias para o Projeto CastrAÇÃO e toalhas para cachorros em abrigos).\nRoupas e agasalhos em bom estado de conservação (serão utilizados para a Campanha do Agasalho).\nDOAÇÕES EM DINHEIRO PODEM SER FEITAS PELO PIX: CNPJ 23828397000100 – INSTITUTO CULTURAL CONFRARIA DOS PRETOS VELHOS DE UMBANDA.\n\nMuito obrigado e Oxalá abençoe!
URL:https://confrariadospretosvelhosdeumbanda.org/evento/aniversario-de-117-anos-da-umbanda-e-homenagem-aos-caboclos-sessao-de-caridade-caboclos/
LOCATION:TUA – Tenda de Umbanda Acolhimento / Limeira\, SP\, R. Dr. Wiliam Silva\, 540\, Limeira\, SP\, 13481-013\, Brasil
CATEGORIES:Homenagens
END:VEVENT
BEGIN:VEVENT
DTSTART;TZID=America/Sao_Paulo:20251120T000000
DTEND;TZID=America/Sao_Paulo:20251120T235959
DTSTAMP:20260423T191711
CREATED:20250825T025420Z
LAST-MODIFIED:20251028T014948Z
UID:11076-1763596800-1763683199@confrariadospretosvelhosdeumbanda.org
SUMMARY:NÃO HAVERÁ ATIVIDADES
DESCRIPTION:ANTES DE VISITAR NOSSA CASA CONHEÇA NOSSAS DIRETRIZES GERAIS: \nAcesse: https://confrariadospretosvelhosdeumbanda.org/diretrizes-gerais/ \nMaiores informações: (19) 99655-6009 (WhatsApp) \nACEITAMOS DOAÇÕES PARA NOSSOS TRABALHOS SOCIAIS: \n\nAlimentos não-perecíveis (serão utilizados em cestas básicas para famílias carentes cadastradas e em marmitas para pessoas em situação de rua).\nTampinhas de garrafa pet e lacres de latinhas de alumínio (serão utilizados para campanhas de arrecadação de cadeiras de rodas\, ração e cirurgias para o Projeto CastrAÇÃO e toalhas para cachorros em abrigos).\nRoupas e agasalhos em bom estado de conservação (serão utilizados para a Campanha do Agasalho).\nDOAÇÕES EM DINHEIRO PODEM SER FEITAS PELO PIX: CNPJ 23828397000100 – INSTITUTO CULTURAL CONFRARIA DOS PRETOS VELHOS DE UMBANDA.\n\nMuito obrigado e Oxalá abençoe!
URL:https://confrariadospretosvelhosdeumbanda.org/evento/nao-havera-atividades-23/
LOCATION:SP
CATEGORIES:Sem Atividades
END:VEVENT
BEGIN:VEVENT
DTSTART;TZID=America/Sao_Paulo:20251120T080000
DTEND;TZID=America/Sao_Paulo:20251120T170000
DTSTAMP:20260423T191711
CREATED:20251120T154911Z
LAST-MODIFIED:20251120T155854Z
UID:11586-1763625600-1763658000@confrariadospretosvelhosdeumbanda.org
SUMMARY:Programação mês da Consciência Negra de Limeira
DESCRIPTION:Cultura de Limeira. \nPara saber mais acesse: https://www.instagram.com/culturadelimeira/ e veja a programação completa.
URL:https://confrariadospretosvelhosdeumbanda.org/evento/programacao-mes-da-consciencia-negra-de-limeira/
LOCATION:SP
END:VEVENT
BEGIN:VEVENT
DTSTART;TZID=America/Sao_Paulo:20251120T100000
DTEND;TZID=America/Sao_Paulo:20251120T110000
DTSTAMP:20260423T191711
CREATED:20251120T154632Z
LAST-MODIFIED:20251120T154632Z
UID:11582-1763632800-1763636400@confrariadospretosvelhosdeumbanda.org
SUMMARY:
DESCRIPTION:
URL:https://confrariadospretosvelhosdeumbanda.org/evento/11582/
LOCATION:SP
CATEGORIES:Eventos
END:VEVENT
BEGIN:VEVENT
DTSTART;TZID=America/Sao_Paulo:20251122T000000
DTEND;TZID=America/Sao_Paulo:20251122T235959
DTSTAMP:20260423T191711
CREATED:20250825T025456Z
LAST-MODIFIED:20251028T015008Z
UID:11078-1763769600-1763855999@confrariadospretosvelhosdeumbanda.org
SUMMARY:NÃO HAVERÁ ATIVIDADES
DESCRIPTION:ANTES DE VISITAR NOSSA CASA CONHEÇA NOSSAS DIRETRIZES GERAIS: \nAcesse: https://confrariadospretosvelhosdeumbanda.org/diretrizes-gerais/ \nMaiores informações: (19) 99655-6009 (WhatsApp) \nACEITAMOS DOAÇÕES PARA NOSSOS TRABALHOS SOCIAIS: \n\nAlimentos não-perecíveis (serão utilizados em cestas básicas para famílias carentes cadastradas e em marmitas para pessoas em situação de rua).\nTampinhas de garrafa pet e lacres de latinhas de alumínio (serão utilizados para campanhas de arrecadação de cadeiras de rodas\, ração e cirurgias para o Projeto CastrAÇÃO e toalhas para cachorros em abrigos).\nRoupas e agasalhos em bom estado de conservação (serão utilizados para a Campanha do Agasalho).\nDOAÇÕES EM DINHEIRO PODEM SER FEITAS PELO PIX: CNPJ 23828397000100 – INSTITUTO CULTURAL CONFRARIA DOS PRETOS VELHOS DE UMBANDA.\n\nMuito obrigado e Oxalá abençoe!
URL:https://confrariadospretosvelhosdeumbanda.org/evento/nao-havera-atividades-24/
LOCATION:SP
CATEGORIES:Sem Atividades
END:VEVENT
BEGIN:VEVENT
DTSTART;TZID=America/Sao_Paulo:20251126T200000
DTEND;TZID=America/Sao_Paulo:20251126T220000
DTSTAMP:20260423T191711
CREATED:20250825T025548Z
LAST-MODIFIED:20251028T015027Z
UID:11080-1764187200-1764194400@confrariadospretosvelhosdeumbanda.org
SUMMARY:SESSÃO DE CARIDADE
DESCRIPTION:ANTES DE VISITAR NOSSA CASA CONHEÇA NOSSAS DIRETRIZES GERAIS: \nAcesse: https://confrariadospretosvelhosdeumbanda.org/diretrizes-gerais/ \nMaiores informações: (19) 99655-6009 (WhatsApp) \nACEITAMOS DOAÇÕES PARA NOSSOS TRABALHOS SOCIAIS: \n\nAlimentos não-perecíveis (serão utilizados em cestas básicas para famílias carentes cadastradas e em marmitas para pessoas em situação de rua).\nTampinhas de garrafa pet e lacres de latinhas de alumínio (serão utilizados para campanhas de arrecadação de cadeiras de rodas\, ração e cirurgias para o Projeto CastrAÇÃO e toalhas para cachorros em abrigos).\nRoupas e agasalhos em bom estado de conservação (serão utilizados para a Campanha do Agasalho).\nDOAÇÕES EM DINHEIRO PODEM SER FEITAS PELO PIX: CNPJ 23828397000100 – INSTITUTO CULTURAL CONFRARIA DOS PRETOS VELHOS DE UMBANDA.\n\nMuito obrigado e Oxalá abençoe!
URL:https://confrariadospretosvelhosdeumbanda.org/evento/sessao-de-caridade-15/
LOCATION:TUA – Tenda de Umbanda Acolhimento / Limeira\, SP\, R. Dr. Wiliam Silva\, 540\, Limeira\, SP\, 13481-013\, Brasil
CATEGORIES:Sessão de Caridade
END:VEVENT
BEGIN:VEVENT
DTSTART;TZID=America/Sao_Paulo:20251127T200000
DTEND;TZID=America/Sao_Paulo:20251127T220000
DTSTAMP:20260423T191711
CREATED:20250825T025650Z
LAST-MODIFIED:20251028T015047Z
UID:11082-1764273600-1764280800@confrariadospretosvelhosdeumbanda.org
SUMMARY:AULA DE MEDITAÇÃO E EQUILÍBRIO ESPIRITUAL COM SRA. MARIA ALICE (EXCLUSIVO PARA MÉDIUNS DA CASA)
DESCRIPTION:ANTES DE VISITAR NOSSA CASA CONHEÇA NOSSAS DIRETRIZES GERAIS: \nAcesse: https://confrariadospretosvelhosdeumbanda.org/diretrizes-gerais/ \nMaiores informações: (19) 99655-6009 (WhatsApp) \nACEITAMOS DOAÇÕES PARA NOSSOS TRABALHOS SOCIAIS: \n\nAlimentos não-perecíveis (serão utilizados em cestas básicas para famílias carentes cadastradas e em marmitas para pessoas em situação de rua).\nTampinhas de garrafa pet e lacres de latinhas de alumínio (serão utilizados para campanhas de arrecadação de cadeiras de rodas\, ração e cirurgias para o Projeto CastrAÇÃO e toalhas para cachorros em abrigos).\nRoupas e agasalhos em bom estado de conservação (serão utilizados para a Campanha do Agasalho).\nDOAÇÕES EM DINHEIRO PODEM SER FEITAS PELO PIX: CNPJ 23828397000100 – INSTITUTO CULTURAL CONFRARIA DOS PRETOS VELHOS DE UMBANDA.\n\nMuito obrigado e Oxalá abençoe!
URL:https://confrariadospretosvelhosdeumbanda.org/evento/aula-de-meditacao-e-equilibrio-espiritual-com-sra-maria-alice-exclusivo-para-mediuns-da-casa-4/
LOCATION:TUA – Tenda de Umbanda Acolhimento / Limeira\, SP\, R. Dr. Wiliam Silva\, 540\, Limeira\, SP\, 13481-013\, Brasil
CATEGORIES:Cursos
END:VEVENT
BEGIN:VEVENT
DTSTART;TZID=America/Sao_Paulo:20251129T180000
DTEND;TZID=America/Sao_Paulo:20251129T200000
DTSTAMP:20260423T191711
CREATED:20250825T025748Z
LAST-MODIFIED:20251028T015107Z
UID:11084-1764439200-1764446400@confrariadospretosvelhosdeumbanda.org
SUMMARY:SESSÃO DE CARIDADE
DESCRIPTION:ANTES DE VISITAR NOSSA CASA CONHEÇA NOSSAS DIRETRIZES GERAIS: \nAcesse: https://confrariadospretosvelhosdeumbanda.org/diretrizes-gerais/ \nMaiores informações: (19) 99655-6009 (WhatsApp) \nACEITAMOS DOAÇÕES PARA NOSSOS TRABALHOS SOCIAIS: \n\nAlimentos não-perecíveis (serão utilizados em cestas básicas para famílias carentes cadastradas e em marmitas para pessoas em situação de rua).\nTampinhas de garrafa pet e lacres de latinhas de alumínio (serão utilizados para campanhas de arrecadação de cadeiras de rodas\, ração e cirurgias para o Projeto CastrAÇÃO e toalhas para cachorros em abrigos).\nRoupas e agasalhos em bom estado de conservação (serão utilizados para a Campanha do Agasalho).\nDOAÇÕES EM DINHEIRO PODEM SER FEITAS PELO PIX: CNPJ 23828397000100 – INSTITUTO CULTURAL CONFRARIA DOS PRETOS VELHOS DE UMBANDA.\n\nMuito obrigado e Oxalá abençoe!
URL:https://confrariadospretosvelhosdeumbanda.org/evento/sessao-de-caridade-16/
LOCATION:TUPJAET – Tenda de Umbanda Pai Joaquim D’Angola e Exú Tiriri / Limeira\, SP\, Rua Evaristo Jacon\, 424\, Limeira\, SP\, 13481-583\, Brasil
CATEGORIES:Sessão de Caridade
END:VEVENT
END:VCALENDAR