BEGIN:VCALENDAR
VERSION:2.0
PRODID:-//Confraria dos Pretos Velhos de Umbanda - ECPv6.15.20//NONSGML v1.0//EN
CALSCALE:GREGORIAN
METHOD:PUBLISH
X-ORIGINAL-URL:https://confrariadospretosvelhosdeumbanda.org
X-WR-CALDESC:Eventos para Confraria dos Pretos Velhos de Umbanda
REFRESH-INTERVAL;VALUE=DURATION:PT1H
X-Robots-Tag:noindex
X-PUBLISHED-TTL:PT1H
BEGIN:VTIMEZONE
TZID:America/Sao_Paulo
BEGIN:STANDARD
TZOFFSETFROM:-0300
TZOFFSETTO:-0300
TZNAME:-03
DTSTART:20250101T000000
END:STANDARD
END:VTIMEZONE
BEGIN:VEVENT
DTSTART;TZID=America/Sao_Paulo:20260321T140000
DTEND;TZID=America/Sao_Paulo:20260321T160000
DTSTAMP:20260423T130949
CREATED:20260218T013320Z
LAST-MODIFIED:20260218T013341Z
UID:12479-1774101600-1774108800@confrariadospretosvelhosdeumbanda.org
SUMMARY:Entrega da Pizza Beneficente
DESCRIPTION:Vendas: até 14 de Março\nRetirada: 21 de Março\, 14h\, na TUPJAET (INOCOOP) \nVALOR:\nR$ 60\,00 cada pizza \nSABORES:\n– Americana\n– Calabresa\n– Muçarela\n– Portuguesa\n– Frango com Requeijão\n– Vegetariana\n– Marguerita\n– Muçarela com Milho\n– Queijo com Goiabada\n– Brigadeiro \nPara mais informações\, entrem em contato no WhatsApp: (19) 99655-6009
URL:https://confrariadospretosvelhosdeumbanda.org/evento/entrega-da-pizza-beneficente/
LOCATION:TUPJAET – Tenda de Umbanda Pai Joaquim D’Angola e Exú Tiriri / Limeira\, SP\, Rua Evaristo Jacon\, 424\, Limeira\, SP\, 13481-583\, Brasil
CATEGORIES:Eventos
ATTACH;FMTTYPE=image/png:https://confrariadospretosvelhosdeumbanda.org/wp-content/uploads/2026/02/PIZZA-2026.png
ORGANIZER;CN="Mae Zilda e Pai Evandro":MAILTO:tupjaet@hotmail.com
END:VEVENT
END:VCALENDAR